BEGIN:VCALENDAR
VERSION:2.0
PRODID:-//ChamberMaster//Event Calendar 2.0//EN
METHOD:PUBLISH
X-PUBLISHED-TTL:P3D
REFRESH-INTERVAL:P3D
CALSCALE:GREGORIAN
BEGIN:VEVENT
DTSTART:20230716T160000Z
DTEND:20230716T170000Z
X-MICROSOFT-CDO-ALLDAYEVENT:FALSE
SUMMARY:Yoga at Delta Beer Lab
DESCRIPTION:Join The Wobbly Yogi and Delta Beer Lab for one hour of mid-day exercise followed by refreshing beverages!\n\n\n\nMeet Hallie Kircher-Henning\, AKA The Wobbly Yogi:\n\n\n\n"I'm a Madison native\, currently in graduate school for clinical social work\, and I recently completed my 200 hr yoga teacher certification. Having practiced for over 10 years\, I'm passionate about bringing yoga to different places in the community (such as Delta Beer Lab) in order to expose more people to its mental and physical benefits. You can expect to not take anything too seriously in my classes\, which are accessible for all levels and abilities. I strongly believe there is no "good" or "bad" at yoga\;  there is only the act of cultivating kindness towards oneself."\n\n\n\nCost is $15 plus tax and includes a 60 minute yoga session and a beverage of your choice. All attendees are asked to bring a yoga mat.
X-ALT-DESC;FMTTYPE=text/html:Join The Wobbly Yogi and Delta Beer Lab for one hour of mid-day exercise followed by refreshing beverages!<br />\n<br />\nMeet Hallie Kircher-Henning\, AKA The Wobbly Yogi:<br />\n<br />\n&ldquo\;I&rsquo\;m a Madison native\, currently in graduate school for clinical social work\, and I recently completed my 200 hr yoga teacher certification. Having practiced for over 10 years\, I&rsquo\;m passionate about bringing yoga to different places in the community (such as Delta Beer Lab) in order to expose more people to its mental and physical benefits. You can expect to not take anything too seriously in my classes\, which are accessible for all levels and abilities. I strongly believe there is no &ldquo\;good&rdquo\; or &ldquo\;bad&rdquo\; at yoga\;&nbsp\; there is only the act of cultivating kindness towards oneself.&ldquo\;<br />\n<br />\nCost is $15 plus tax and includes a 60 minute yoga session and a beverage of your choice. All attendees are asked to bring a yoga mat.
LOCATION:Delta Beer Lab 167 E Badger Rd Madison\, WI 53713
UID:e.1970.3092
SEQUENCE:3
DTSTAMP:20260423T014219Z
URL:https://business.fitchburgchamber.com/events/details/yoga-at-delta-beer-lab-3092
END:VEVENT

END:VCALENDAR
