BEGIN:VCALENDAR
VERSION:2.0
PRODID:-//ChamberMaster//Event Calendar 2.0//EN
METHOD:PUBLISH
X-PUBLISHED-TTL:P3D
REFRESH-INTERVAL:P3D
CALSCALE:GREGORIAN
BEGIN:VEVENT
DTSTART;VALUE=DATE:20260530
DTEND;VALUE=DATE:20260531
TRANSP:TRANSPARENT
X-MICROSOFT-CDO-ALLDAYEVENT:TRUE
SUMMARY:Yahara House Pickleball for Mental Health
DESCRIPTION:Yahara House Pickleball Fundraiser for Mental Health is returning for a second year to McGaw Park on May 30th - this tournament raises funds for mental health services in our area and to increase awareness of mental health needs and resources.  Special events for youth include a bracket for 10-15 year olds as well as a split age bracket for youth and an adult.\n\n\n\nYahara House is a nonprofit that uses a clubhouse format for supporting individuals dealing with mental illness. They focus on support\, accessing services\, housing and employment.  As May is Mental Health Awareness Month\, the date was chosen so they can raise awareness of the need for mental health support and services and reduce the stigma associated with mental health issues.  The money raised from this tournament will go towards extending services to individuals who are uninsured and cannot access services currently.
X-ALT-DESC;FMTTYPE=text/html:Yahara House Pickleball Fundraiser for Mental Health is returning for a second year to McGaw Park on May 30th - this tournament raises funds for mental health services in our area and to increase awareness of mental health needs and resources.&nbsp\; Special events for youth include a bracket for 10-15 year olds as well as a split age bracket for youth and an adult.<br />\n<br />\nYahara House is a nonprofit that uses a clubhouse format for supporting individuals dealing with mental illness. They focus on support\, accessing services\, housing and employment.&nbsp\; As May is Mental Health Awareness Month\, the date was chosen so they can raise awareness of the need for mental health support and services and reduce the stigma associated with mental health issues.&nbsp\; The money raised from this tournament will go towards extending services to individuals who are uninsured and cannot access services currently.
LOCATION:McGaw Park
UID:e.1970.11328
SEQUENCE:3
DTSTAMP:20260424T192213Z
URL:https://business.fitchburgchamber.com/events/details/yahara-house-pickleball-for-mental-health-11328
END:VEVENT

END:VCALENDAR
