BEGIN:VCALENDAR
VERSION:2.0
PRODID:-//ChamberMaster//Event Calendar 2.0//EN
METHOD:PUBLISH
X-PUBLISHED-TTL:P3D
REFRESH-INTERVAL:P3D
CALSCALE:GREGORIAN
BEGIN:VEVENT
DTSTART:20211104T193000Z
DTEND:20211104T223000Z
X-MICROSOFT-CDO-ALLDAYEVENT:FALSE
SUMMARY:WWBIC 2021 Annual Celebration
DESCRIPTION:WWBIC 2021 Annual Celebration| The Next Vintage: Cultivating a Legacy\n\n\n\nWWBIC is very pleased to invite you to join us this year for WWBIC's annual showcase. This year we are modifying the format from a luncheon to an afternoon happy hour.\n\n\n\nWe are proceeding optimistically as we plan to host our event in person with an option to join us virtually. WWBIC's commitment to small business remains steadfast. We invite you to join us as we look to the future and continue to create new ways of garnering support and matching resources with the needs of Wisconsin's entrepreneurial community.\n\nThis year our celebration embraces the theme: The Next Vintage | Cultivating a Legacy. Our program will honor the roots of our past work\, but also look toward the future with intention   cultivating our work\, spaces\, and places into our shared legacy full of hope. To embrace our nod to the future\, we welcome Cristina Torres\, Marimar Estates Director of Sales and Marketing\, as our keynote speaker. For more information\, please visit https://www.wwbic.com/wwbic-2021-luncheon/.\n\n\n\nSponsors:\n\nAssociated Bank\n\nBMO Harris Bank\n\nJohnson Financial Group\n\nNorthern Trust\n\nSouthwest\n\nWells Fargo\n\nAF Tech Resources\n\nBrewers Community Foundation\n\nChase\n\nPyramax Bank
X-ALT-DESC;FMTTYPE=text/html:<strong>WWBIC 2021 Annual Celebration| The Next Vintage: Cultivating a Legacy</strong><br />\n<br />\nWWBIC is very pleased to invite you to join us this year for WWBIC&rsquo\;s annual showcase. This year we are modifying the format from a luncheon to an afternoon happy hour.<br />\n<br />\nWe are proceeding optimistically as we plan to host our event in person with an option to join us virtually. WWBIC&rsquo\;s commitment to small business remains steadfast. We invite you to join us as we look to the future and continue to create new ways of garnering support and matching resources with the needs of Wisconsin&rsquo\;s entrepreneurial community.<br />\nThis year our celebration embraces the theme: The Next Vintage | Cultivating a Legacy. Our program will honor the roots of our past work\, but also look toward the future with intention &ndash\; cultivating our work\, spaces\, and places into our shared legacy full of hope. To embrace our nod to the future\, we welcome Cristina Torres\, Marimar Estates Director of Sales and Marketing\, as our keynote speaker. For more information\, please visit https://www.wwbic.com/wwbic-2021-luncheon/.<br />\n<br />\nSponsors:<br />\nAssociated Bank<br />\nBMO Harris Bank<br />\nJohnson Financial Group<br />\nNorthern Trust<br />\nSouthwest<br />\nWells Fargo<br />\nAF Tech Resources<br />\nBrewers Community Foundation<br />\nChase<br />\nPyramax Bank
LOCATION:Miller High Life Theatre 500 W Kilbourn Ave Milwaukee\, WI 53203
UID:e.1970.1360
SEQUENCE:3
DTSTAMP:20260419T162046Z
URL:https://business.fitchburgchamber.com/events/details/wwbic-2021-annual-celebration-1360
END:VEVENT

END:VCALENDAR
