BEGIN:VCALENDAR
VERSION:2.0
PRODID:-//ChamberMaster//Event Calendar 2.0//EN
METHOD:PUBLISH
X-PUBLISHED-TTL:P3D
REFRESH-INTERVAL:P3D
CALSCALE:GREGORIAN
BEGIN:VEVENT
DTSTART:20221130T223000Z
DTEND:20221201T003000Z
X-MICROSOFT-CDO-ALLDAYEVENT:FALSE
SUMMARY:Wollersheim Holiday Happy Hour
DESCRIPTION:Join us in The Stable Grill for Wollersheim Craft Cocktails & Wine! All Drink Buy One Get One Free\, Plus Complimentary Appetizers and an Ugly Sweater Contest.
X-ALT-DESC;FMTTYPE=text/html:Join us in The Stable Grill for Wollersheim Craft Cocktails &amp\; Wine! All Drink Buy One Get One Free\, Plus Complimentary Appetizers and an Ugly Sweater Contest.
LOCATION:Quivey's Grove 6261 Nesbitt Road\, Fitchburg
UID:e.1970.2091
SEQUENCE:3
DTSTAMP:20260422T105615Z
URL:https://business.fitchburgchamber.com/events/details/wollersheim-holiday-happy-hour-2091
END:VEVENT

END:VCALENDAR
