BEGIN:VCALENDAR
VERSION:2.0
PRODID:-//ChamberMaster//Event Calendar 2.0//EN
METHOD:PUBLISH
X-PUBLISHED-TTL:P3D
REFRESH-INTERVAL:P3D
CALSCALE:GREGORIAN
BEGIN:VEVENT
DTSTART:20221125T170000Z
DTEND:20221128T040000Z
X-MICROSOFT-CDO-ALLDAYEVENT:FALSE
SUMMARY:Wisco Dark
DESCRIPTION:Start making your plans for Black Friday weekend now! We've got an all Wisco lineup for you! Our Bourbon Barrel Aged Imperial Stout release starts on Friday at 11am and we have four varieties again this year. As a bonus this year we also have four Wisconsin made liquors that can be paired with any of these beers. Or if you're not that into beers\, can be had solo. ?? Options include:\n\n\n\n \n\n\n\nBlack on Black [Bourbon Barrel Aged Imperial Stout\, 11% abv] - dark\, smooth and slightly sweet stout aged in Willett Bourbon barrels.\n\n\n\n- Suggested sipper: Wollersheim Distillery Two Mile Bourbon (Prairie du Sac\, WI)\n\n\n\n \n\n\n\nMaple Thunder [Barrel Aged Imperial Stout\, 11% abv] - a big stout aged in barrels that once held maple syrup for a sweet finish.\n\n\n\n- Suggested sipper: Wollersheim Distillery Apple Brandy (Prairie du Sac\, WI)\n\n\n\n \n\n\n\nRye Thunder [Bourbon Barrel Aged Imperial Stout\, 11% abv] - imperial stout aged in a 10yr Templeton Rye barrel for a peppery and slightly spicy experience.\n\n\n\n- Suggested sipper: 45th Parallel Distillery New Richmond Rye (New Richmond\, WI)\n\n\n\n \n\n\n\nDouble Thunder [Bourbon Barrel Aged Imperial Stout\, 11% abv] - aged twice\, so its really nice. Willett Bourbon then a Jim Beam toasted oak barrel. Super smooth and doubly delicious.\n\n\n\n- Suggested sipper: State Line Distillery Coffee Liqueur (Madison\, WI)
X-ALT-DESC;FMTTYPE=text/html:<div>\n<div>Start making your plans for Black Friday weekend now! We&#39\;ve got an all Wisco lineup for you! Our Bourbon Barrel Aged Imperial Stout release starts on Friday at 11am and we have four varieties again this year. As a bonus this year we also have four Wisconsin made liquors that can be paired with any of these beers. Or if you&#39\;re not that into beers\, can be had solo. ?? Options include:</div>\n</div>\n\n<div>\n<div>&nbsp\;</div>\n</div>\n\n<div>\n<div>Black on Black [Bourbon Barrel Aged Imperial Stout\, 11% abv] - dark\, smooth and slightly sweet stout aged in Willett Bourbon barrels.</div>\n</div>\n\n<div>\n<div>- Suggested sipper: Wollersheim Distillery Two Mile Bourbon (Prairie du Sac\, WI)</div>\n</div>\n\n<div>\n<div>&nbsp\;</div>\n</div>\n\n<div>\n<div>Maple Thunder [Barrel Aged Imperial Stout\, 11% abv] - a big stout aged in barrels that once held maple syrup for a sweet finish.</div>\n</div>\n\n<div>\n<div>- Suggested sipper: Wollersheim Distillery Apple Brandy (Prairie du Sac\, WI)</div>\n</div>\n\n<div>\n<div>&nbsp\;</div>\n</div>\n\n<div>\n<div>Rye Thunder [Bourbon Barrel Aged Imperial Stout\, 11% abv] - imperial stout aged in a 10yr Templeton Rye barrel for a peppery and slightly spicy experience.</div>\n</div>\n\n<div>\n<div>- Suggested sipper: 45th Parallel Distillery New Richmond Rye (New Richmond\, WI)</div>\n</div>\n\n<div>\n<div>&nbsp\;</div>\n</div>\n\n<div>\n<div>Double Thunder [Bourbon Barrel Aged Imperial Stout\, 11% abv] - aged twice\, so its really nice. Willett Bourbon then a Jim Beam toasted oak barrel. Super smooth and doubly delicious.</div>\n</div>\n\n<div>\n<div>- Suggested sipper: State Line Distillery Coffee Liqueur (Madison\, WI)</div>\n</div>\n
LOCATION:2975 Subzero Parkway Fitchburg\, WI
UID:e.1970.2322
SEQUENCE:3
DTSTAMP:20260422T103752Z
URL:https://business.fitchburgchamber.com/events/details/wisco-dark-2322
END:VEVENT

END:VCALENDAR
