BEGIN:VCALENDAR
VERSION:2.0
PRODID:-//ChamberMaster//Event Calendar 2.0//EN
METHOD:PUBLISH
X-PUBLISHED-TTL:P3D
REFRESH-INTERVAL:P3D
CALSCALE:GREGORIAN
BEGIN:VEVENT
DTSTART:20221025T233000Z
DTEND:20221026T013000Z
X-MICROSOFT-CDO-ALLDAYEVENT:FALSE
SUMMARY:Wine & Design
DESCRIPTION:Preregistration Required: https://www.wineanddesign.com/calendar/madison-wi/event/winter-wonderland-lake-at-the-thirsty-goat?fbclid=IwAR1mNsqzRq2BLHUrIWCYk784zrYl1qTDnBsl57UPM6_ojrpjDAzZEra-gtQ Join us for a wine & paint night! ONE GLASS OF WINE PROVIDED! Come in early to grab dinner or eat while you paint! No artistic talent is needed\, just the desire to have fun! You will be guided step by step to complete your very own take-home masterpiece.
X-ALT-DESC;FMTTYPE=text/html:Preregistration Required: https://www.wineanddesign.com/calendar/madison-wi/event/winter-wonderland-lake-at-the-thirsty-goat?fbclid=IwAR1mNsqzRq2BLHUrIWCYk784zrYl1qTDnBsl57UPM6_ojrpjDAzZEra-gtQ Join us for a wine &amp\; paint night! ONE GLASS OF WINE PROVIDED! Come in early to grab dinner or eat while you paint! No artistic talent is needed\, just the desire to have fun! You will be guided step by step to complete your very own take-home masterpiece.
LOCATION:Thirsty Goat 3040 Cahill Main Fitchburg\, WI 53711
UID:e.1970.2076
SEQUENCE:3
DTSTAMP:20260422T085652Z
URL:https://business.fitchburgchamber.com/events/details/wine-design-2076
END:VEVENT

END:VCALENDAR
