BEGIN:VCALENDAR
VERSION:2.0
PRODID:-//ChamberMaster//Event Calendar 2.0//EN
METHOD:PUBLISH
X-PUBLISHED-TTL:P3D
REFRESH-INTERVAL:P3D
CALSCALE:GREGORIAN
BEGIN:VEVENT
DTSTART:20231020T210000Z
DTEND:20231021T023000Z
X-MICROSOFT-CDO-ALLDAYEVENT:FALSE
SUMMARY:Wicked Brew Bash
DESCRIPTION:Goblins and Ghouls this is your night! A family friendly Halloween party!\n\nFor your littler vampires\, we'll have a kid zone complete with coloring pages & candy. For our older ghostly guests\, a haunted dance floor\, games\, spooky selfie-station\, and Paddy's Patties food truck for you to sink your fangs into!\n\nCostumes highly encouraged.
X-ALT-DESC;FMTTYPE=text/html:Goblins and Ghouls this is your night! A family friendly Halloween party!<br />\nFor your littler vampires\, we&#39\;ll have a kid zone complete with coloring pages &amp\; candy. For our older ghostly guests\, a haunted dance floor\, games\, spooky selfie-station\, and Paddy&#39\;s Patties food truck for you to sink your fangs into!<br />\nCostumes highly encouraged.
LOCATION:Delta Beer Lab 167 E. Badger Road\, Madison
UID:e.1970.3157
SEQUENCE:3
DTSTAMP:20260423T050512Z
URL:https://business.fitchburgchamber.com/events/details/wicked-brew-bash-3157
END:VEVENT

END:VCALENDAR
