BEGIN:VCALENDAR
VERSION:2.0
PRODID:-//ChamberMaster//Event Calendar 2.0//EN
METHOD:PUBLISH
X-PUBLISHED-TTL:P3D
REFRESH-INTERVAL:P3D
CALSCALE:GREGORIAN
BEGIN:VEVENT
DTSTART:20220727T150000Z
DTEND:20220727T160000Z
X-MICROSOFT-CDO-ALLDAYEVENT:FALSE
SUMMARY:Why a Strong Management Team Matters
DESCRIPTION:A management team makes up less than 20% of an organization. However\, managers are responsible for the productivity\, well-being and development of most of the people in the organization. They drive engagement and retention of employees. Managers are the difference between owner-centric businesses and enterprise-centric businesses. You will learn the importance of a strong management team\, complete an assessment of how your management team is doing in four areas\, and what it means to grow proportionally.
X-ALT-DESC;FMTTYPE=text/html:A management team makes up less than 20% of an organization. However\, managers are responsible for the productivity\, well-being and development of most of the people in the organization. They drive engagement and retention of employees. Managers are the difference between owner-centric businesses and enterprise-centric businesses. You will learn the importance of a strong management team\, complete an assessment of how your management team is doing in four areas\, and what it means to grow proportionally.
LOCATION:Zoom https://tinyurl.com/4s2af54b
UID:e.1970.2024
SEQUENCE:3
DTSTAMP:20260420T005142Z
URL:https://business.fitchburgchamber.com/events/details/why-a-strong-management-team-matters-2024
END:VEVENT

END:VCALENDAR
