BEGIN:VCALENDAR
VERSION:2.0
PRODID:-//ChamberMaster//Event Calendar 2.0//EN
METHOD:PUBLISH
X-PUBLISHED-TTL:P3D
REFRESH-INTERVAL:P3D
CALSCALE:GREGORIAN
BEGIN:VEVENT
DTSTART:20231114T220000Z
DTEND:20231115T000000Z
X-MICROSOFT-CDO-ALLDAYEVENT:FALSE
SUMMARY:Vista West Gallery Night
DESCRIPTION:Vista West is excited to share the creative visions and skills of their residents and local artists! Join them on Tuesday\, November 14 from 4pm to 6pm for their Gallery Night. \n\n\n\nEnjoy an evening of art\, belonging and community! They will have wine\, cheese and light bites. Be sure to check out the Memories in the Making exhibit featuring artwork from our Blu Grotto Memory Care residents!\n\n150 Bella Vista Drive\, Madison\n\n\n\nRSVP by 11/13 to Jackie at jhill@capricommunities.com or 608-820-1805
X-ALT-DESC;FMTTYPE=text/html:Vista West is excited to share the creative visions and skills of their residents and local artists! Join them on Tuesday\, November 14 from 4pm to 6pm for their Gallery Night.&nbsp\;<br />\n<br />\nEnjoy an evening of art\, belonging and community! They will have wine\, cheese and light bites. Be sure to check out the Memories in the Making exhibit featuring artwork from our Blu Grotto Memory Care residents!<br />\n150 Bella Vista Drive\, Madison<br />\n<br />\nRSVP by 11/13 to Jackie at jhill@capricommunities.com or 608-820-1805
LOCATION:150 Bella Vista Drive\, Madison
UID:e.1970.3177
SEQUENCE:3
DTSTAMP:20260423T082040Z
URL:https://business.fitchburgchamber.com/events/details/vista-west-gallery-night-3177
END:VEVENT

END:VCALENDAR
