BEGIN:VCALENDAR
VERSION:2.0
PRODID:-//ChamberMaster//Event Calendar 2.0//EN
METHOD:PUBLISH
X-PUBLISHED-TTL:P3D
REFRESH-INTERVAL:P3D
CALSCALE:GREGORIAN
BEGIN:VEVENT
DTSTART:20220604T230000Z
DTEND:20220605T020000Z
X-MICROSOFT-CDO-ALLDAYEVENT:FALSE
SUMMARY:Village Health Project - Dinner and Drag Show
DESCRIPTION:Please join Funk's Pub\, BLBreeze Productions\, and the Village Health Project for a special evening featuring a 3 course dinner and drag show to help raise funds for the Village Health Project!\n\n\n\nSeating begins at 6:00pm with the show to follow.\n\nFirst Course:\n\nStrawberry Salad or Soup\n\nEntr e:\n\nPan Seared Chicken Breast or Skirt Steak\n\nDessert:\n\nBlueberry Pie or Chocolate Mousse\n\nDetailed description of food posted as well.\n\nTickets are $50 and include Dinner\, Drink\, and Drag Show. Tax and gratuity are not included. Additional beverages available for purchase.\n\nEmail funksdrag@gmail.com
X-ALT-DESC;FMTTYPE=text/html:Please join Funk&#39\;s Pub\, BLBreeze Productions\, and the Village Health Project for a special evening featuring a 3 course dinner and drag show to help raise funds for the Village Health Project!<br />\n<br />\nSeating begins at 6:00pm with the show to follow.<br />\nFirst Course:<br />\nStrawberry Salad or Soup<br />\nEntr&eacute\;e:<br />\nPan Seared Chicken Breast or Skirt Steak<br />\nDessert:<br />\nBlueberry Pie or Chocolate Mousse<br />\nDetailed description of food posted as well.<br />\nTickets are $50 and include Dinner\, Drink\, and Drag Show. Tax and gratuity are not included. Additional beverages available for purchase.<br />\nEmail funksdrag@gmail.com
LOCATION:Funk's Pub 5956 Executive Drive #101 Fitchburg\, WI 53719
UID:e.1970.2018
SEQUENCE:3
DTSTAMP:20260420T042335Z
URL:https://business.fitchburgchamber.com/events/details/village-health-project-dinner-and-drag-show-2018
END:VEVENT

END:VCALENDAR
