BEGIN:VCALENDAR
VERSION:2.0
PRODID:-//ChamberMaster//Event Calendar 2.0//EN
METHOD:PUBLISH
X-PUBLISHED-TTL:P3D
REFRESH-INTERVAL:P3D
CALSCALE:GREGORIAN
BEGIN:VEVENT
DTSTART:20240121T140000Z
DTEND:20240121T150000Z
X-MICROSOFT-CDO-ALLDAYEVENT:FALSE
SUMMARY:Unwreck Your Neck with Dr Kari Martin
DESCRIPTION:Got a pain in the neck? Come join Team Lioness for a workshop with Dr Kari Martin of Streamline Physical Therapy to nerd out about all things neck related. She'll share her expertise to help us release tension\, find more mobility and improve our posture for fewer headaches and better overall health. No need to be a gym member! There is a suggested donation of $10 for all non-members with proceeds going to The Foundation for Black Women's Wellness. For more info\, please reach out to hello@lioness-fitness.com. Hope to see you there!
X-ALT-DESC;FMTTYPE=text/html:Got a pain in the neck? Come join Team Lioness for a workshop with Dr Kari Martin of Streamline Physical Therapy to nerd out about all things neck related. She&#39\;ll share her expertise to help us release tension\, find more mobility and improve our posture for fewer headaches and better overall health. No need to be a gym member! There is a suggested donation of $10 for all non-members with proceeds going to The Foundation for Black Women&#39\;s Wellness. For more info\, please reach out to hello@lioness-fitness.com. Hope to see you there!
LOCATION:6200 Nesbitt Rd\, Suite F\, Fitchburg
UID:e.1970.3275
SEQUENCE:3
DTSTAMP:20260423T114707Z
URL:https://business.fitchburgchamber.com/events/details/unwreck-your-neck-with-dr-kari-martin-3275
END:VEVENT

END:VCALENDAR
