BEGIN:VCALENDAR
VERSION:2.0
PRODID:-//ChamberMaster//Event Calendar 2.0//EN
METHOD:PUBLISH
X-PUBLISHED-TTL:P3D
REFRESH-INTERVAL:P3D
CALSCALE:GREGORIAN
BEGIN:VEVENT
DTSTART:20220317T170000Z
DTEND:20220317T174500Z
X-MICROSOFT-CDO-ALLDAYEVENT:FALSE
SUMMARY:Understanding Sleep and Anxiety for Optimal Performance
DESCRIPTION:Hosted by: Capital Wealth Advisory Group\n\nA private wealth advisory practice of Ameriprise Financial Services\, LLC \n\n\n\nJoin us for an educational webinar where Melissa Milanak\, PhD\, will describe ways for improving workplace effectiveness and quality of life by helping professionals successfully overcome various work and personal challenges to optimize performance. Learn about the balance of sleep\, how it works\, and things you can do to improve it. \n\n\n\nPresented by Melissa Milanak\, PhD\, Clinical Psychologist & Executive Consultant\, Mind Impact Consulting\, for Amundi Asset Management\n\n\n\n\n\nPlease call:  1-844-621-3956    Meeting Number (Access Code):  2482 772 0148\n\n\n\nClick here to join the WebEx\n\n\n\nPassword:  Seminar1!\n\n  \n\nPlease plan to call the toll-free number to hear the speaker and join the WebEx event online to view the slides using the login details. WebEx may prompt you to install or activate a plug-in to view the meeting.  \n\nThank you in advance for entering your name and email address to attend.
X-ALT-DESC;FMTTYPE=text/html:Hosted by: Capital Wealth Advisory Group<br />\nA private wealth advisory practice of Ameriprise Financial Services\, LLC&nbsp\;<br />\n<br />\nJoin us for an educational webinar where Melissa Milanak\, PhD\, will describe ways for improving workplace effectiveness and quality of life by helping professionals successfully overcome various work and personal challenges to optimize performance. Learn about the balance of sleep\, how it works\, and things you can do to improve it.&nbsp\;<br />\n<br />\nPresented by Melissa Milanak\, PhD\, Clinical Psychologist &amp\; Executive Consultant\, Mind Impact Consulting\, for Amundi Asset Management<br />\n<br />\n<br />\nPlease call:&nbsp\; 1-844-621-3956&nbsp\; &nbsp\; Meeting Number (Access Code):&nbsp\; 2482 772 0148<br />\n<br />\n<a href="https://ampfadvisors.webex.com/ampfadvisors/j.php?MTID=mb505af3761d7d5b98b7215028400a46e">Click here to join the WebEx</a><br />\n<br />\nPassword:&nbsp\; Seminar1!<br />\n&nbsp\;&nbsp\;<br />\nPlease plan to call the toll-free number to hear the speaker and join the WebEx event online to view the slides using the login details. WebEx may prompt you to install or activate a plug-in to view the meeting.&nbsp\;&nbsp\;<br />\nThank you in advance for entering your name and email address to attend.
LOCATION:
UID:e.1970.1579
SEQUENCE:3
DTSTAMP:20260419T212629Z
URL:https://business.fitchburgchamber.com/events/details/understanding-sleep-and-anxiety-for-optimal-performance-1579
END:VEVENT

END:VCALENDAR
