BEGIN:VCALENDAR
VERSION:2.0
PRODID:-//ChamberMaster//Event Calendar 2.0//EN
METHOD:PUBLISH
X-PUBLISHED-TTL:P3D
REFRESH-INTERVAL:P3D
CALSCALE:GREGORIAN
BEGIN:VEVENT
DTSTART:20220609T000000Z
DTEND:20220609T020000Z
X-MICROSOFT-CDO-ALLDAYEVENT:FALSE
SUMMARY:Trivia at Delta Beer Lab
DESCRIPTION:Join us at Delta Beer Lab every Wednesday for Premier Trivia!\n\n\n\nQuestions kick off at 7pm. This is a first come first serve event\, so come early and grab a seat. Trivia is free to play and prizes are awarded to 1st\, 2nd & 3rd place winners!\n\n\n\nCheck out http://www.wipremiertrivia.com/ for a free daily clue!
X-ALT-DESC;FMTTYPE=text/html:<br>\nJoin us at Delta Beer Lab every Wednesday for Premier Trivia!<br>\n<br>\nQuestions kick off at 7pm. This is a first come first serve event\, so come early and grab a seat. Trivia is free to play and prizes are awarded to 1st\, 2nd &amp\; 3rd place winners!<br>\n<br>\nCheck out http://www.wipremiertrivia.com/ for a free daily clue!
LOCATION:Delta Beer Lab 167 E Badger Road Madison\, WI 53713
UID:e.1970.1976
SEQUENCE:3
DTSTAMP:20260420T023232Z
URL:https://business.fitchburgchamber.com/events/details/trivia-at-delta-beer-lab-06-08-2022-1976
END:VEVENT

END:VCALENDAR
