BEGIN:VCALENDAR
VERSION:2.0
PRODID:-//ChamberMaster//Event Calendar 2.0//EN
METHOD:PUBLISH
X-PUBLISHED-TTL:P3D
REFRESH-INTERVAL:P3D
CALSCALE:GREGORIAN
BEGIN:VEVENT
DTSTART:20240819T160000Z
DTEND:20240819T230000Z
X-MICROSOFT-CDO-ALLDAYEVENT:FALSE
SUMMARY:Tri 4 Schools Golf Classic
DESCRIPTION:The 10th Annual Tri 4 Schools Golf Classic will take place on August 19th at Hawk's Landing! Hawk's Landing is a member's only golf club nestled in the trees just outside of Madison. This beautiful course is sure to challenge your skills. But the 18-hole\, four-person scramble will provide a fun day regardless of your golf skills!\n\nWhat you get:\n\n\n	18 holes of golf with cart\n	Sweet SWAG bag\n	Dinner and drinks\n	Pre-golf snacks\n	Exclusive access to the auction\n\n\nTri 4 Schools donates 100% of youth entry fees to schools. They rely on sponsors\, donors\, and fundraising events to fuel their mission. The Golf Classic is the largest fundraiser of the year. Join them for a fun day of golf\, sponsor\, or attend the auction and Fund-A-Cause.\n\nSchedule:\n\n11:00 AM    Check-in begins/Silent Auction\n\n11:00 AM    Driving range and putting green open\, lunch available\n\n11:45 AM    Brief instructions\n\n12:00 PM   Shotgun start \n\n4:30 PM     Dinner \n\n4:30 PM     Silent auction\, awards\, and fund-a-cause \n\n6:00 PM     Event concludes
X-ALT-DESC;FMTTYPE=text/html:<div style="box-sizing: border-box\; margin-top: 0px\; margin-bottom: 1rem\; color: rgb(39\, 39\, 39)\; font-family: Montserrat\, sans-serif\; font-size: 16px\;"><span style="font-size:14px\;"><span style="font-family:arial\;">The 10th Annual Tri 4 Schools Golf Classic will take place on August 19th at Hawk&rsquo\;s Landing! Hawk&rsquo\;s Landing is a member&rsquo\;s only golf club nestled in the trees just outside of Madison. This beautiful course is sure to challenge your skills. But the 18-hole\, four-person scramble will provide a fun day regardless of your golf skills!</span></span></div>\n\n<div style="box-sizing: border-box\; margin-top: 0px\; margin-bottom: 1rem\; color: rgb(39\, 39\, 39)\; font-family: Montserrat\, sans-serif\; font-size: 16px\;"><span style="font-size:14px\;"><span style="font-family:arial\;">What you get:</span></span></div>\n\n<ul style="box-sizing: border-box\; margin-top: 0px\; margin-bottom: 1rem\; color: rgb(39\, 39\, 39)\; font-family: Montserrat\, sans-serif\; font-size: 16px\;">\n	<li style="box-sizing: border-box\;"><span style="font-size:14px\;"><span style="font-family:arial\;">18 holes of golf with cart</span></span></li>\n	<li style="box-sizing: border-box\;"><span style="font-size:14px\;"><span style="font-family:arial\;">Sweet SWAG bag</span></span></li>\n	<li style="box-sizing: border-box\;"><span style="font-size:14px\;"><span style="font-family:arial\;">Dinner and drinks</span></span></li>\n	<li style="box-sizing: border-box\;"><span style="font-size:14px\;"><span style="font-family:arial\;">Pre-golf snacks</span></span></li>\n	<li style="box-sizing: border-box\;"><span style="font-size:14px\;"><span style="font-family:arial\;">Exclusive access to the auction</span></span></li>\n</ul>\n\n<div style="box-sizing: border-box\; margin-top: 0px\; margin-bottom: 1rem\; color: rgb(39\, 39\, 39)\; font-family: Montserrat\, sans-serif\; font-size: 16px\;"><span style="font-size:14px\;"><span style="font-family:arial\;">Tri 4 Schools donates 100% of youth entry fees to schools. They&nbsp\;rely on sponsors\, donors\, and fundraising events to fuel their&nbsp\;mission. The Golf Classic is the largest fundraiser of the year. Join them&nbsp\;for a fun day of golf\, sponsor\, or attend the auction and Fund-A-Cause.</span></span></div>\n\n<div style="box-sizing: border-box\; margin-top: 0px\; margin-bottom: 1rem\; color: rgb(39\, 39\, 39)\; font-family: Montserrat\, sans-serif\; font-size: 16px\;"><span style="font-size:14px\;"><span style="font-family:arial\;"><span style="box-sizing: border-box\; font-weight: 600\;">Schedule:</span></span></span></div>\n\n<div style="box-sizing: border-box\; margin-top: 0px\; margin-bottom: 1rem\; color: rgb(39\, 39\, 39)\; font-family: Montserrat\, sans-serif\; font-size: 16px\;"><span style="font-size:14px\;"><span style="font-family:arial\;">11:00 AM&nbsp\; &nbsp\; Check-in begins/Silent Auction</span></span></div>\n\n<div style="box-sizing: border-box\; margin-top: 0px\; margin-bottom: 1rem\; color: rgb(39\, 39\, 39)\; font-family: Montserrat\, sans-serif\; font-size: 16px\;"><span style="font-size:14px\;"><span style="font-family:arial\;">11:00 AM&nbsp\; &nbsp\; Driving range and putting green open\, lunch available</span></span></div>\n\n<div style="box-sizing: border-box\; margin-top: 0px\; margin-bottom: 1rem\; color: rgb(39\, 39\, 39)\; font-family: Montserrat\, sans-serif\; font-size: 16px\;"><span style="font-size:14px\;"><span style="font-family:arial\;">11:45 AM&nbsp\; &nbsp\; Brief instructions</span></span></div>\n\n<div style="box-sizing: border-box\; margin-top: 0px\; margin-bottom: 1rem\; color: rgb(39\, 39\, 39)\; font-family: Montserrat\, sans-serif\; font-size: 16px\;"><span style="font-size:14px\;"><span style="font-family:arial\;">12:00 PM&nbsp\; &nbsp\;Shotgun start&nbsp\;</span></span></div>\n\n<div style="box-sizing: border-box\; margin-top: 0px\; margin-bottom: 1rem\; color: rgb(39\, 39\, 39)\; font-family: Montserrat\, sans-serif\; font-size: 16px\;"><span style="font-size:14px\;"><span style="font-family:arial\;">4:30 PM&nbsp\; &nbsp\; &nbsp\;Dinner&nbsp\;</span></span></div>\n\n<div style="box-sizing: border-box\; margin-top: 0px\; margin-bottom: 1rem\; color: rgb(39\, 39\, 39)\; font-family: Montserrat\, sans-serif\; font-size: 16px\;"><span style="font-size:14px\;"><span style="font-family:arial\;">4:30 PM&nbsp\; &nbsp\; &nbsp\;Silent auction\, awards\, and fund-a-cause&nbsp\;</span></span></div>\n\n<div style="box-sizing: border-box\; margin-top: 0px\; margin-bottom: 1rem\; color: rgb(39\, 39\, 39)\; font-family: Montserrat\, sans-serif\; font-size: 16px\;"><span style="font-size:14px\;"><span style="font-family:arial\;">6:00 PM&nbsp\; &nbsp\; &nbsp\;Event concludes&nbsp\;</span></span></div>\n
LOCATION:Hawk's Landing 88 Hawks Landing Cir\, Verona\, WI 53593
UID:e.1970.6188
SEQUENCE:3
DTSTAMP:20260424T074101Z
URL:https://business.fitchburgchamber.com/events/details/tri-4-schools-golf-classic-6188
END:VEVENT

END:VCALENDAR
