BEGIN:VCALENDAR
VERSION:2.0
PRODID:-//ChamberMaster//Event Calendar 2.0//EN
METHOD:PUBLISH
X-PUBLISHED-TTL:P3D
REFRESH-INTERVAL:P3D
CALSCALE:GREGORIAN
BEGIN:VEVENT
DTSTART:20230308T000000Z
DTEND:20230308T020000Z
X-MICROSOFT-CDO-ALLDAYEVENT:FALSE
SUMMARY:Trek Travel Info Night
DESCRIPTION:Fine dining\, wine tastings\, world-class hotels\, meticulously planned rides on beautiful roads\, a perfectly tuned bike\, and constant support from the friendliest people you've ever met. If this doesn't sound like your definition of adventure\, maybe it's time to reconsider. Join us for an evening presentation from our friends at Trek Travel to learn more about their cycling vacations of a lifetime! Please register regardless of if you're going to be in person or on the Zoom call.
X-ALT-DESC;FMTTYPE=text/html:Fine dining\, wine tastings\, world-class hotels\, meticulously planned rides on beautiful roads\, a perfectly tuned bike\, and constant support from the friendliest people you&rsquo\;ve ever met. If this doesn&rsquo\;t sound like your definition of adventure\, maybe it&rsquo\;s time to reconsider. Join us for an evening presentation from our friends at Trek Travel to learn more about their cycling vacations of a lifetime! Please register regardless of if you&#39\;re going to be in person or on the Zoom call.
LOCATION:Wheel & Sprocket 2970 Cahill Main #101\, Fitchburg\, WI 53711
UID:e.1970.2792
SEQUENCE:3
DTSTAMP:20260422T185622Z
URL:https://business.fitchburgchamber.com/events/details/trek-travel-info-night-2792
END:VEVENT

END:VCALENDAR
