BEGIN:VCALENDAR
VERSION:2.0
PRODID:-//ChamberMaster//Event Calendar 2.0//EN
METHOD:PUBLISH
X-PUBLISHED-TTL:P3D
REFRESH-INTERVAL:P3D
CALSCALE:GREGORIAN
BEGIN:VEVENT
DTSTART:20220323T220000Z
DTEND:20220324T010000Z
X-MICROSOFT-CDO-ALLDAYEVENT:FALSE
SUMMARY:Three Course Fish Dinner
DESCRIPTION:Quivey's Grove three course fish dinner is served every Wednesday during lent at The Stone House. Limited amount of seats are available each week and reservations are required. Seating times are available from 5pm - 7pm. Reservations close on Tuesday at noon and can be made either by calling us at (608) 273-4900 or on resy.com.\n\n\n\nCost is $35 per person plus tax & gratuity. Dinner includes appetizer\, dinner entr e & dessert. \n\n\n\nTo see all future menus please check out our event info at quiveysgrove.com
X-ALT-DESC;FMTTYPE=text/html:Quivey&#39\;s Grove three course fish dinner is served every Wednesday during lent at The Stone House. Limited amount of seats are available each week and reservations are required. Seating times are available from 5pm - 7pm. Reservations close on Tuesday at noon and can be made either by calling us at (608) 273-4900 or on resy.com.<br />\n<br />\nCost is $35 per person plus tax &amp\; gratuity. Dinner includes appetizer\, dinner entr&eacute\;e &amp\; dessert.&nbsp\;<br />\n<br />\nTo see all future menus please check out our event info at quiveysgrove.com&nbsp\;
LOCATION:Quivey's Grove 6261 Nesbitt Road\, Fitchburg\, WI
UID:e.1970.1654
SEQUENCE:3
DTSTAMP:20260419T230844Z
URL:https://business.fitchburgchamber.com/events/details/three-course-fish-dinner-1654
END:VEVENT

END:VCALENDAR
