BEGIN:VCALENDAR
VERSION:2.0
PRODID:-//ChamberMaster//Event Calendar 2.0//EN
METHOD:PUBLISH
X-PUBLISHED-TTL:P3D
REFRESH-INTERVAL:P3D
CALSCALE:GREGORIAN
BEGIN:VEVENT
DTSTART:20220309T230000Z
DTEND:20220310T020000Z
X-MICROSOFT-CDO-ALLDAYEVENT:FALSE
SUMMARY:Three Course Fish Dinner
DESCRIPTION:Quivey's Grove three course fish dinner is served every Wednesday during lent at The Stone House. Limited amount of seats are available each week and reservations are required. Seating times are available from 5pm - 7pm. Reservations close on Tuesday at noon and can be made either by calling us at (608) 273-4900 or on resy.com.\n\n\n\nCost is $35 per person plus tax & gratuity. Dinner includes appetizer\, dinner entr e & dessert. This week's menu listed below.\n\n\n\nMarch 9th Menu\n\n	Wisconsin Relish Tray includes Widmer's Brick Cheese Spread\, Bavaria Summer Sausage & Braunschweiger\, Deviled Eggs\, Assortment of Pickled Vegetables\, Crackers & Toasts.\n	Baked Walleye with lemon caper mustard butter\, Parmesan potato\, coleslaw & fresh baked muffins.\n	Caramel Apple Tart\n\n\n\nTo see all future menus please check out our event info at quiveysgrove.com
X-ALT-DESC;FMTTYPE=text/html:Quivey&#39\;s Grove three course fish dinner is served every Wednesday during lent at The Stone House. Limited amount of seats are available each week and reservations are required. Seating times are available from 5pm - 7pm. Reservations close on Tuesday at noon and can be made either by calling us at (608) 273-4900 or on resy.com.<br />\n<br />\nCost is $35 per person plus tax &amp\; gratuity. Dinner includes appetizer\, dinner entr&eacute\;e &amp\; dessert. This week&#39\;s menu listed below.<br />\n<br />\nMarch 9th Menu\n<ul>\n	<li>Wisconsin Relish Tray includes Widmer&#39\;s Brick Cheese Spread\, Bavaria Summer Sausage &amp\; Braunschweiger\, Deviled Eggs\, Assortment of Pickled Vegetables\, Crackers &amp\; Toasts.</li>\n	<li>Baked Walleye with lemon caper mustard butter\, Parmesan potato\, coleslaw &amp\; fresh baked muffins.</li>\n	<li>Caramel Apple Tart</li>\n</ul>\n<br />\nTo see all future menus please check out our event info at quiveysgrove.com&nbsp\;
LOCATION:Quivey's Grove 6261 Nesbitt Road\, Fitchburg\, WI
UID:e.1970.1652
SEQUENCE:3
DTSTAMP:20260419T211950Z
URL:https://business.fitchburgchamber.com/events/details/three-course-fish-dinner-1652
END:VEVENT

END:VCALENDAR
