BEGIN:VCALENDAR
VERSION:2.0
PRODID:-//ChamberMaster//Event Calendar 2.0//EN
METHOD:PUBLISH
X-PUBLISHED-TTL:P3D
REFRESH-INTERVAL:P3D
CALSCALE:GREGORIAN
BEGIN:VEVENT
DTSTART:20220718T140000Z
DTEND:20220718T180000Z
X-MICROSOFT-CDO-ALLDAYEVENT:FALSE
SUMMARY:The Ridge At Madison Blood Drive
DESCRIPTION:The Ridge At Madison is hosting a blood drive on July 18th from 9am-1pm. Make an appointment by calling 1-800-RED-CROS (1-800-733-2767) or visit RedCrossBlood.org and enter Sponsor Code: theridgemadison. You can save up to 15 minutes when you donate blood by using RapidPass! Visit RedCrossBlood.org/RapidPass for more info. Walk-ins are also welcome!
X-ALT-DESC;FMTTYPE=text/html:The Ridge At Madison is hosting a blood drive on July 18th from 9am-1pm. Make an appointment by calling 1-800-RED-CROS (1-800-733-2767) or visit <strong><a href="https://www.redcrossblood.org/">RedCrossBlood.org</a></strong> and enter Sponsor Code: theridgemadison. You can save up to 15 minutes when you donate blood by using RapidPass! Visit RedCrossBlood.org/RapidPass for more info. Walk-ins are also welcome!
LOCATION:The Ridge At Madison Community Room 2879 Fish Hatchery Road Madison\, WI 53713
UID:e.1970.2027
SEQUENCE:3
DTSTAMP:20260420T004609Z
URL:https://business.fitchburgchamber.com/events/details/the-ridge-at-madison-blood-drive-2027
END:VEVENT

END:VCALENDAR
