BEGIN:VCALENDAR
VERSION:2.0
PRODID:-//ChamberMaster//Event Calendar 2.0//EN
METHOD:PUBLISH
X-PUBLISHED-TTL:P3D
REFRESH-INTERVAL:P3D
CALSCALE:GREGORIAN
BEGIN:VEVENT
DTSTART:20230607T163000Z
DTEND:20230607T180000Z
X-MICROSOFT-CDO-ALLDAYEVENT:FALSE
SUMMARY:The Business Breakthrough: 6 Steps to Unleashing Your Potential
DESCRIPTION:Time to level up!\n\nA complimentary seminar delivering actionable takeaways to optimize time\, team\, and profits in YOUR business.\n\nAbout this event:\n\nCome to our '6 Steps to a Better Business' seminar and you'll learn business fundamentals to turn chaos into control. Successful business owners and entrepreneurs in over 70 countries trust ActionCOACH  to help them to systemize their businesses and get more out of life. We are excited to share with you the proven business system methodology that tens of thousands of successful businesses have utilized.\n\nWhat you'll learn:\n\n\n	How to define the direction of your business\n	How to systemize your business so it works for you\n	How to balance your priorities with those of your team\n	How to adopt strategies that allow you to achieve goals and still have personal freedom
X-ALT-DESC;FMTTYPE=text/html:<h2>Time to level up!</h2>\n\n<p style="margin-left:0px\; margin-right:0px"><span style="color:rgb(153\, 153\, 153)">A complimentary seminar delivering actionable takeaways to optimize time\, team\, and profits in YOUR business.</span></p>\n\n<h4><span style="color:rgb(128\, 128\, 128)">About this event:</span></h4>\n\n<p style="margin-left:0px\; margin-right:0px"><span style="color:rgb(153\, 153\, 153)">Come to our &lsquo\;6 Steps to a Better Business&rsquo\; seminar and you&rsquo\;ll learn business fundamentals to turn chaos into control. Successful business owners and entrepreneurs in over 70 countries trust ActionCOACH&reg\; to help them to systemize their businesses and get more out of life. We are excited to share with you the proven business system methodology that tens of thousands of successful businesses have utilized.</span></p>\n\n<h4><span style="color:rgb(128\, 128\, 128)">What you&rsquo\;ll learn:</span></h4>\n\n<ul style="margin-left:2.5rem\; margin-right:0px">\n	<li><span style="color:rgb(153\, 153\, 153)">How to define the direction of your business</span></li>\n	<li><span style="color:rgb(153\, 153\, 153)">How to systemize your business so it works for you</span></li>\n	<li><span style="color:rgb(153\, 153\, 153)">How to balance your priorities with those of your team</span></li>\n	<li><span style="color:rgb(153\, 153\, 153)">How to adopt strategies that allow you to achieve goals and still have personal freedom</span></li>\n</ul>\n\n<p style="margin-left:0px\; margin-right:0px">&nbsp\;</p>\n
LOCATION:Chisel ActionCOACH 5920 Exchange St. #1 McFarland\, WI 53558 United States
UID:e.1970.3051
SEQUENCE:3
DTSTAMP:20260423T000041Z
URL:https://business.fitchburgchamber.com/events/details/the-business-breakthrough-6-steps-to-unleashing-your-potential-3051
END:VEVENT

END:VCALENDAR
