BEGIN:VCALENDAR
VERSION:2.0
PRODID:-//ChamberMaster//Event Calendar 2.0//EN
METHOD:PUBLISH
X-PUBLISHED-TTL:P3D
REFRESH-INTERVAL:P3D
CALSCALE:GREGORIAN
BEGIN:VEVENT
DTSTART:20230307T000000Z
DTEND:20230307T020000Z
X-MICROSOFT-CDO-ALLDAYEVENT:FALSE
SUMMARY:The Big Share® Kickoff Featuring Drag Queen Bingo at Delta Beer Lab
DESCRIPTION:Join Community Shares of Wisconsin for The Big Share  Kickoff on Monday\, March 6 from 6-8:00 p.m. in this hybrid event in-person at Delta Beer Lab and online via Zoom.\n\n \n\nCommunity Shares' member nonprofits are ready to raise $650\,000 on March 7. We're kicking things off with Drag Queen Bingo with Bianca Lynn Breeze and Cass Marie. Masking for the in-person portion of this event is encouraged but not required.\n\n \n\nThe Big Share  Kickoff is sponsored by Madison Gas and Electric Foundation and Living in Balance which encourage you to act today for a better future through sustainable choices.\n\n \n\nBetween 6:00 and 7:00 p.m.\, donate during the SUPER POWER HOUR sponsored by Madison Gas and Electric. The nonprofits that raise the most funds or have the most donors in this hour will each win a cash prize of $1\,500 each!\n\n \n\nWe'd like to thank The Big Share Principal Partner Madison Community Foundation and Media\, Sponsors captimes.com\, 105.5 Triple M\, and News 3 Now / Channel 3000.
X-ALT-DESC;FMTTYPE=text/html:<div>Join Community Shares of Wisconsin for The Big Share&reg\; Kickoff on Monday\, March 6 from 6-8:00 p.m. in this hybrid event in-person at Delta Beer Lab and online via Zoom.<br />\n&nbsp\;</div>\n\n<div>Community Shares&#39\; member nonprofits are ready to raise $650\,000 on March 7. We&#39\;re kicking things off with Drag Queen Bingo with Bianca Lynn Breeze and Cass Marie. Masking for the in-person portion of this event is encouraged but not required.<br />\n&nbsp\;</div>\n\n<div>The Big Share&reg\; Kickoff is sponsored by Madison Gas and Electric Foundation and Living in Balance which encourage you to act today for a better future through sustainable choices.<br />\n&nbsp\;</div>\n\n<div>Between 6:00 and 7:00 p.m.\, donate during the SUPER POWER HOUR sponsored by Madison Gas and Electric. The nonprofits that raise the most funds or have the most donors in this hour will each win a cash prize of $1\,500 each!<br />\n&nbsp\;</div>\n\n<div>We&#39\;d like to thank The Big Share Principal Partner Madison Community Foundation and Media\, Sponsors&nbsp\;<a class="x1i10hfl xjbqb8w x6umtig x1b1mbwd xaqea5y xav7gou x9f619 x1ypdohk xt0psk2 xe8uvvx xdj266r x11i5rnm xat24cr x1mh8g0r xexx8yu x4uap5 x18d9i69 xkhd6sd x16tdsg8 x1hl2dhg xggy1nq x1a2a7pz xt0b8zv x1fey0fg" href="http://captimes.com/?fbclid=IwAR3qlGDdyeFXmjgl2r8SMWmo60TBLqDHWXprXIq9W3jin4W2HFR6RSWW8q0" rel="nofollow noopener" style="color: var(--blue-link)\; cursor: pointer\; text-decoration-line: none\; margin: 0px\; text-align: inherit\; padding: 0px\; outline: none\; border-width: 0px\; border-style: initial\; border-color: initial\; -webkit-tap-highlight-color: transparent\; box-sizing: border-box\; list-style: none\; touch-action: manipulation\; background-color: transparent\; display: inline\; font-family: inherit\;" tabindex="0" target="_blank">captimes.com</a>\, 105.5 Triple M\, and News 3 Now / Channel 3000.</div>\n
LOCATION:Delta Beer Lab 167 E Badger Rd Madison\, WI 53713
UID:e.1970.2791
SEQUENCE:3
DTSTAMP:20260422T190509Z
URL:https://business.fitchburgchamber.com/events/details/the-big-share-kickoff-featuring-drag-queen-bingo-at-delta-beer-lab-2791
END:VEVENT

END:VCALENDAR
