BEGIN:VCALENDAR
VERSION:2.0
PRODID:-//ChamberMaster//Event Calendar 2.0//EN
METHOD:PUBLISH
X-PUBLISHED-TTL:P3D
REFRESH-INTERVAL:P3D
CALSCALE:GREGORIAN
BEGIN:VEVENT
DTSTART:20230309T173000Z
DTEND:20230309T190000Z
X-MICROSOFT-CDO-ALLDAYEVENT:FALSE
SUMMARY:Teams VoIP Lunch and Learn
DESCRIPTION:So much has changed with how people work these last few years\, has your phone system kept up? \n\nLearn more about the Microsoft cloud-based phone system integrated with Microsoft Teams. Teams VoIP is one of the fastest-growing phone systems. This is primarily due to the seamless integration with all the other Microsoft Tools you use. \n\nAberdean Consulting is hosting a Lunch and Learn at the University Research Park on Thursday\, March 9th from 11:30 to 1:00 PM.  \n\nWe will cover the ins and outs of Teams VoIP\, its integration with Microsoft Teams\, and even allow you to make some calls!\n\nLunch\, beverages\, and dessert will be provided.\n\nRegister now\, as there is limited space available. Register Here
X-ALT-DESC;FMTTYPE=text/html:<strong>So much has changed with how people work these last few years\, has your phone system kept up?</strong>&nbsp\;<br />\nLearn more about the Microsoft cloud-based phone system integrated with Microsoft Teams. Teams VoIP is one of the fastest-growing phone systems. This is primarily due to the seamless integration with all the other Microsoft Tools you use.&nbsp\;<br />\nAberdean Consulting is hosting a Lunch and Learn at the University Research Park on Thursday\, March 9<sup>th</sup> from 11:30 to 1:00 PM. &nbsp\;<br />\nWe will cover the ins and outs of Teams VoIP\, its integration with Microsoft Teams\, and even allow you to make some calls!<br />\nLunch\, beverages\, and dessert will be provided.<br />\nRegister now\, as there is limited space available. <a href="https://forms.office.com/r/fPTeGbmqyM">Register Here</a>
LOCATION:510 Charmany Drive\, Room 50 Madison\, WI 53719
UID:e.1970.2780
SEQUENCE:3
DTSTAMP:20260422T185741Z
URL:https://business.fitchburgchamber.com/events/details/teams-voip-lunch-and-learn-2780
END:VEVENT

END:VCALENDAR
