BEGIN:VCALENDAR
VERSION:2.0
PRODID:-//ChamberMaster//Event Calendar 2.0//EN
METHOD:PUBLISH
X-PUBLISHED-TTL:P3D
REFRESH-INTERVAL:P3D
CALSCALE:GREGORIAN
BEGIN:VEVENT
DTSTART:20220709T230000Z
DTEND:20220710T030000Z
X-MICROSOFT-CDO-ALLDAYEVENT:FALSE
SUMMARY:SUPERTUESDAY At Fitchburg Festival of Speed!
DESCRIPTION:We're excited to join up in this all-day racing event that also has a great day of music included! Michael Alexander & The Big Whiskey will kick it off the music at 2:00pm\, followed by our friends FMB and the Names at 4:00pm\, then SUPERTUESDAY hits the stage at 6:00pm. If that wasn't enough\, enjoy the fireworks show at 9:00pm!
X-ALT-DESC;FMTTYPE=text/html:We&#39\;re excited to join up in this all-day racing event that also has a great day of music included! Michael Alexander &amp\; The Big Whiskey will kick it off the music at 2:00pm\, followed by our friends FMB and the Names at 4:00pm\, then SUPERTUESDAY hits the stage at 6:00pm. If that wasn&#39\;t enough\, enjoy the fireworks show at 9:00pm!
LOCATION:5500 E. Cheryl Parkway\, Fitchburg
UID:e.1970.1718
SEQUENCE:3
DTSTAMP:20260420T005838Z
URL:https://business.fitchburgchamber.com/events/details/supertuesday-at-fitchburg-festival-of-speed-1718
END:VEVENT

END:VCALENDAR
