BEGIN:VCALENDAR
VERSION:2.0
PRODID:-//ChamberMaster//Event Calendar 2.0//EN
METHOD:PUBLISH
X-PUBLISHED-TTL:P3D
REFRESH-INTERVAL:P3D
CALSCALE:GREGORIAN
BEGIN:VEVENT
DTSTART:20230319T003000Z
DTEND:20230319T040000Z
X-MICROSOFT-CDO-ALLDAYEVENT:FALSE
SUMMARY:Super Tuesday at the Vine
DESCRIPTION:Super Tuesday was the last band to play at The Dry Bean. In fact they played the night the Dry Bean closed. We are really happy to have them coming back and being one of the first bands to play at The Vine/Old Dry bean. Tickets will go on sale in February.
X-ALT-DESC;FMTTYPE=text/html:Super Tuesday was the last band to play at The Dry Bean. In fact they played the night the Dry Bean closed. We are really happy to have them coming back and being one of the first bands to play at The Vine/Old Dry bean. Tickets will go on sale in February.
LOCATION:The Vine 5264 Verona Road\, Fitchburg
UID:e.1970.2793
SEQUENCE:3
DTSTAMP:20260422T185823Z
URL:https://business.fitchburgchamber.com/events/details/super-tuesday-at-the-vine-2793
END:VEVENT

END:VCALENDAR
