BEGIN:VCALENDAR
VERSION:2.0
PRODID:-//ChamberMaster//Event Calendar 2.0//EN
METHOD:PUBLISH
X-PUBLISHED-TTL:P3D
REFRESH-INTERVAL:P3D
CALSCALE:GREGORIAN
BEGIN:VEVENT
DTSTART:20260503T220000Z
DTEND:20260504T000000Z
X-MICROSOFT-CDO-ALLDAYEVENT:FALSE
SUMMARY:Star Wars Trivia at Hop Haus
DESCRIPTION:A long time ago in a brewery not so far away  trivia night became legendary.\n\nJoin us for Star Wars Trivia at Hop Haus Brewing Company on Sunday\, May 3rd at 5:00pm.\n\nWhether you've memorized every planet in the Outer Rim or you just nod along when someone says "parsec\," this is your shot to prove your knowledge.\n\nWhat to expect:\n\n  A fully themed Star Wars trivia night covering movies\, characters\, quotes\, and questions that will humble even the most confident fan\n\n  Free to play\n\n  Prizes for the top teams\n\n  A competitive crowd that will absolutely celebrate your mistakes like they're personal victories\n\nGrab your crew of up to six players and get there early to lock in your table. Costumes are not required\, but if you show up dressed like a Jedi\, you've already earned some respect.\n\nThis is where rivalries are born\, answers are debated\, and someone will absolutely blame the wording of a question.\n\nEvent details:\n\nDate: Sunday\, May 3rd\n\nTime: 5:00pm\n\nLocation: Hop Haus Brewing Company in Fitchburg\n\nMay the Force be with you. Or at least with your team's smartest guesser.
X-ALT-DESC;FMTTYPE=text/html:<div class="xdj266r x14z9mp xat24cr x1lziwak x1vvkbs" style="margin-inline: 0px\; overflow-wrap: break-word\; margin-bottom: 0px\; margin-top: 0px\; font-family: &quot\;Segoe UI Historic&quot\;\, &quot\;Segoe UI&quot\;\, Helvetica\, Arial\, sans-serif\; color: rgb(8\, 8\, 9)\; font-size: 15px\;">A long time ago in a brewery not so far away&hellip\; trivia night became legendary.</div>\n\n<div class="x14z9mp xat24cr x1lziwak x1vvkbs xtlvy1s" style="margin-inline: 0px\; overflow-wrap: break-word\; margin-bottom: 0px\; margin-top: 0.5em\; font-family: &quot\;Segoe UI Historic&quot\;\, &quot\;Segoe UI&quot\;\, Helvetica\, Arial\, sans-serif\; color: rgb(8\, 8\, 9)\; font-size: 15px\;">Join us for Star Wars Trivia at Hop Haus Brewing Company on Sunday\, May 3rd at 5:00pm.</div>\n\n<div class="x14z9mp xat24cr x1lziwak x1vvkbs xtlvy1s" style="margin-inline: 0px\; overflow-wrap: break-word\; margin-bottom: 0px\; margin-top: 0.5em\; font-family: &quot\;Segoe UI Historic&quot\;\, &quot\;Segoe UI&quot\;\, Helvetica\, Arial\, sans-serif\; color: rgb(8\, 8\, 9)\; font-size: 15px\;">Whether you&rsquo\;ve memorized every planet in the Outer Rim or you just nod along when someone says &ldquo\;parsec\,&rdquo\; this is your shot to prove your knowledge.</div>\n\n<div class="x14z9mp xat24cr x1lziwak x1vvkbs xtlvy1s" style="margin-inline: 0px\; overflow-wrap: break-word\; margin-bottom: 0px\; margin-top: 0.5em\; font-family: &quot\;Segoe UI Historic&quot\;\, &quot\;Segoe UI&quot\;\, Helvetica\, Arial\, sans-serif\; color: rgb(8\, 8\, 9)\; font-size: 15px\;">What to expect:<br class="html-br" />\n&bull\; A fully themed Star Wars trivia night covering movies\, characters\, quotes\, and questions that will humble even the most confident fan<br class="html-br" />\n&bull\; Free to play<br class="html-br" />\n&bull\; Prizes for the top teams<br class="html-br" />\n&bull\; A competitive crowd that will absolutely celebrate your mistakes like they&rsquo\;re personal victories</div>\n\n<div class="x14z9mp xat24cr x1lziwak x1vvkbs xtlvy1s" style="margin-inline: 0px\; overflow-wrap: break-word\; margin-bottom: 0px\; margin-top: 0.5em\; font-family: &quot\;Segoe UI Historic&quot\;\, &quot\;Segoe UI&quot\;\, Helvetica\, Arial\, sans-serif\; color: rgb(8\, 8\, 9)\; font-size: 15px\;">Grab your crew of up to six players and get there early to lock in your table. Costumes are not required\, but if you show up dressed like a Jedi\, you&rsquo\;ve already earned some respect.</div>\n\n<div class="x14z9mp xat24cr x1lziwak x1vvkbs xtlvy1s" style="margin-inline: 0px\; overflow-wrap: break-word\; margin-bottom: 0px\; margin-top: 0.5em\; font-family: &quot\;Segoe UI Historic&quot\;\, &quot\;Segoe UI&quot\;\, Helvetica\, Arial\, sans-serif\; color: rgb(8\, 8\, 9)\; font-size: 15px\;">This is where rivalries are born\, answers are debated\, and someone will absolutely blame the wording of a question.</div>\n\n<div class="x14z9mp xat24cr x1lziwak x1vvkbs xtlvy1s" style="margin-inline: 0px\; overflow-wrap: break-word\; margin-bottom: 0px\; margin-top: 0.5em\; font-family: &quot\;Segoe UI Historic&quot\;\, &quot\;Segoe UI&quot\;\, Helvetica\, Arial\, sans-serif\; color: rgb(8\, 8\, 9)\; font-size: 15px\;">Event details:<br class="html-br" />\nDate: Sunday\, May 3rd<br class="html-br" />\nTime: 5:00pm<br class="html-br" />\nLocation: Hop Haus Brewing Company in Fitchburg</div>\n\n<div class="x14z9mp xat24cr x1lziwak x1vvkbs xtlvy1s" style="margin-inline: 0px\; overflow-wrap: break-word\; margin-bottom: 0px\; margin-top: 0.5em\; font-family: &quot\;Segoe UI Historic&quot\;\, &quot\;Segoe UI&quot\;\, Helvetica\, Arial\, sans-serif\; color: rgb(8\, 8\, 9)\; font-size: 15px\;">May the Force be with you. Or at least with your team&rsquo\;s smartest guesser.</div>\n
LOCATION:Hop Haus - Fitchburg
UID:e.1970.11316
SEQUENCE:3
DTSTAMP:20260419T175351Z
URL:https://business.fitchburgchamber.com/events/details/star-wars-trivia-at-hop-haus-11316
END:VEVENT

END:VCALENDAR
