BEGIN:VCALENDAR
VERSION:2.0
PRODID:-//ChamberMaster//Event Calendar 2.0//EN
METHOD:PUBLISH
X-PUBLISHED-TTL:P3D
REFRESH-INTERVAL:P3D
CALSCALE:GREGORIAN
BEGIN:VEVENT
DTSTART:20260507T230000Z
DTEND:20260508T010000Z
X-MICROSOFT-CDO-ALLDAYEVENT:FALSE
SUMMARY:Spring Needle Felting Class at Four Winds Farm
DESCRIPTION:Join multi-talented local artist\, Jaroslava Sobiskova\, for a Spring Needle Felting Class. In this engaging class\, you'll learn the art of needle felting to create stunning pieces to display in your home. You'll learn how to manipulate wool fibers with a barbed needle to create texture\, depth\, and detail. You'll get the choice of learning on a trivet or a set of two coasters. No prior experience is necessary\, and all materials will be provided. Join us and unleash your creativity as you craft your own unique piece of felted art!\n\n\n\n*Fee: $45 (includes materials)\n\n*Space is limited to 24 participants.\n\n*All sales final\; we do not issue refunds.\n\n\n\nABOUT THE INSTRUCTOR\n\nA native of the Czech Republic\, Sobiskova came to the United States in 1986 seeking a life of greater artistic freedom than was possible in Communist-ruled Czechoslovakia. Earning a BFA degree from the University of Wisconsin in 1993\, Sobiskova returned to the Czech Republic to participate in that country's working as an artistic consultant for the Civic Forum Foundation there for one year. She later returned to the US and operated a private gallery in Chicago while doing commission work in painting and murals. She later settled in Madison\, Wisconsin with her family\, where the rural setting and rolling hills remind her of her native Bohemia. She continues to receive accolades for her award-winning work. Jaroslava learned this egg-decorating method growing up in Czechoslovakia. Jaroslava will talk about the history of recoloring\, regional traditions\, and tools that are used to create a variety of effects.
X-ALT-DESC;FMTTYPE=text/html:Join multi-talented local artist\, Jaroslava Sobiskova\, for a Spring Needle Felting Class. In this engaging class\, you&#39\;ll learn the art of needle felting to create stunning pieces to display in your home. You&#39\;ll learn how to manipulate wool fibers with a barbed needle to create texture\, depth\, and detail. You&#39\;ll get the choice of learning on a trivet or a set of two coasters. No prior experience is necessary\, and all materials will be provided. Join us and unleash your creativity as you craft your own unique piece of felted art!<br />\n<br />\n*Fee: $45 (includes materials)<br />\n*Space is limited to 24 participants.<br />\n*All sales final\; we do not issue refunds.<br />\n<br />\nABOUT THE INSTRUCTOR<br />\nA native of the Czech Republic\, Sobiskova came to the United States in 1986 seeking a life of greater artistic freedom than was possible in Communist-ruled Czechoslovakia. Earning a BFA degree from the University of Wisconsin in 1993\, Sobiskova returned to the Czech Republic to participate in that country&rsquo\;s working as an artistic consultant for the Civic Forum Foundation there for one year. She later returned to the US and operated a private gallery in Chicago while doing commission work in painting and murals. She later settled in Madison\, Wisconsin with her family\, where the rural setting and rolling hills remind her of her native Bohemia. She continues to receive accolades for her award-winning work. Jaroslava learned this egg-decorating method growing up in Czechoslovakia. Jaroslava will talk about the history of recoloring\, regional traditions\, and tools that are used to create a variety of effects.
LOCATION:Four Winds Farm
UID:e.1970.11317
SEQUENCE:3
DTSTAMP:20260424T192117Z
URL:https://business.fitchburgchamber.com/events/details/spring-needle-felting-class-at-four-winds-farm-11317
END:VEVENT

END:VCALENDAR
