BEGIN:VCALENDAR
VERSION:2.0
PRODID:-//ChamberMaster//Event Calendar 2.0//EN
METHOD:PUBLISH
X-PUBLISHED-TTL:P3D
REFRESH-INTERVAL:P3D
CALSCALE:GREGORIAN
BEGIN:VEVENT
DTSTART:20230322T220000Z
DTEND:20230323T023000Z
X-MICROSOFT-CDO-ALLDAYEVENT:FALSE
SUMMARY:Soda Release Party at Delta Beer Lab
DESCRIPTION:Our core soda flavors are finally available in 4-packs to go!\n\n\n\nJoin us for an ice cream social. Try a vanilla ice cream float made with your favorite Delta soda - root beer\, cherry\, orange\, or ginger beer.\n\n\n\n*Available while supplies last*\n\n*Limited vegan ice cream also available for an additional cost*
X-ALT-DESC;FMTTYPE=text/html:<div>Our core soda flavors are finally available in 4-packs to go!</div>\n\n<div><br />\nJoin us for an ice cream social. Try a vanilla ice cream float made with your favorite Delta soda - root beer\, cherry\, orange\, or ginger beer.</div>\n\n<div><br />\n*Available while supplies last*<br />\n*Limited vegan ice cream also available for an additional cost*</div>\n
LOCATION:Delta Beer Lab 167 E Badger Rd Madison\, WI 53713
UID:e.1970.2836
SEQUENCE:3
DTSTAMP:20260422T190217Z
URL:https://business.fitchburgchamber.com/events/details/soda-release-party-at-delta-beer-lab-2836
END:VEVENT

END:VCALENDAR
