BEGIN:VCALENDAR
VERSION:2.0
PRODID:-//ChamberMaster//Event Calendar 2.0//EN
METHOD:PUBLISH
X-PUBLISHED-TTL:P3D
REFRESH-INTERVAL:P3D
CALSCALE:GREGORIAN
BEGIN:VEVENT
DTSTART:20240313T190000Z
DTEND:20240313T210000Z
X-MICROSOFT-CDO-ALLDAYEVENT:FALSE
SUMMARY:Sips with The Cesta
DESCRIPTION:Join us at Benvenuto's to mingle\, ask questions\, and learn about Fitchburg's newest senior living community\, The Cesta.\n\n\n\nCurrently under development\, The Cesta will offer a continuum of care. This Life Plan community is designed specifically for active\, independent seniors. This community will combine elegance\, fine dining\, luxury apartments and amenities while staying rooted in the multigenerational neighborhood\, Terravessa. Open community spaces\, urban farming\, sustainability and inclusivity are key to this design.\n\n\n\nWe invite you to be a part of this exciting development from the ground up!
X-ALT-DESC;FMTTYPE=text/html:<br />\n<span style="font-size:14px"><span style="font-family:arial\,helvetica\,sans-serif">Join us at Benvenuto&#39\;s to mingle\, ask questions\, and learn about Fitchburg&#39\;s newest senior living community\, <strong>The Cesta</strong>.<br />\n<br />\nCurrently under development\, The Cesta will offer a continuum of care. This Life Plan community is designed specifically for active\, independent seniors.&nbsp\;This community will combine elegance\, fine dining\, luxury apartments and amenities while staying rooted in the multigenerational neighborhood\, Terravessa. Open community spaces\, urban farming\, sustainability and inclusivity are key to this design.<br />\n<br />\nWe invite you to be a part of this exciting development from the ground up!&nbsp\;</span></span>
LOCATION:Benvenuto's Italian Grill
UID:e.1970.5066
SEQUENCE:3
DTSTAMP:20260426T004307Z
URL:https://business.fitchburgchamber.com/events/details/sips-with-the-cesta-5066
END:VEVENT

END:VCALENDAR
