BEGIN:VCALENDAR
VERSION:2.0
PRODID:-//ChamberMaster//Event Calendar 2.0//EN
METHOD:PUBLISH
X-PUBLISHED-TTL:P3D
REFRESH-INTERVAL:P3D
CALSCALE:GREGORIAN
BEGIN:VEVENT
DTSTART:20231013T170000Z
DTEND:20231013T180000Z
X-MICROSOFT-CDO-ALLDAYEVENT:FALSE
SUMMARY:Shine & Dine - An Introduction to The Cesta
DESCRIPTION:Join us to learn about Fitchburg's newest senior living community\, The Cesta.\n\n\n\nCurrently under development\, The Cesta will offer a continuum of care. This life-lease community is designed specifically for active\, independent seniors. This community will combine elegance\, fine dining\, luxury apartments and amenities while staying rooted in the multigenerational neighborhood\, Terravessa. Open community spaces\, urban farming\, sustainability and inclusivity are key to this design.\n\n\n\nWe invite you to be a part of this exciting development from the ground up!
X-ALT-DESC;FMTTYPE=text/html:<br />\n<span style="font-size:14px"><span style="font-family:arial\,helvetica\,sans-serif">Join us to learn about Fitchburg&#39\;s newest senior living community\, <strong>The Cesta</strong>.<br />\n<br />\nCurrently under development\, The Cesta will offer a continuum of care. This life-lease community is designed specifically for active\, independent seniors.&nbsp\;<span style="color:rgba(0\, 0\, 0\, 0.9)">This community will combine elegance\, fine dining\, luxury apartments and amenities while staying rooted in the multigenerational neighborhood\, Terravessa. Open community spaces\, urban farming\, sustainability and inclusivity are key to this design.</span><br />\n<br />\n<span style="color:rgb(85\, 85\, 85)"><span style="color:rgba(0\, 0\, 0\, 0.9)">We invite you to be a part of this exciting development from the ground up!&nbsp\;</span></span></span></span>
LOCATION:Fitchburg Public Library Second Floor Meeting Room
UID:e.1970.3108
SEQUENCE:3
DTSTAMP:20260423T051129Z
URL:https://business.fitchburgchamber.com/events/details/shine-dine-an-introduction-to-the-cesta-10-13-2023-3108
END:VEVENT

END:VCALENDAR
