BEGIN:VCALENDAR
VERSION:2.0
PRODID:-//ChamberMaster//Event Calendar 2.0//EN
METHOD:PUBLISH
X-PUBLISHED-TTL:P3D
REFRESH-INTERVAL:P3D
CALSCALE:GREGORIAN
BEGIN:VEVENT
DTSTART:20230505T170000Z
DTEND:20230505T190000Z
X-MICROSOFT-CDO-ALLDAYEVENT:FALSE
SUMMARY:Shine & Dine - An Introduction to The Cesta
DESCRIPTION:It's inspiring. It's environmentally conscious. And it's designed specifically for active\, independent Wisconsin seniors. \n\n\n\nJoin us to learn more about the newest 55+ senior living community coming to the Fitchburg area. \n\nOffering independent living and a full continuum of care\, The Cesta will be unlike anything that is on the market. This community will combine elegance\, fine dining\, luxury apartments and amenities while staying rooted in the multigenerational neighborhood\, Terravessa. Open community spaces\, urban farming\, sustainability and inclusivity are key to this design.\n\n\n\nWe invite you to be a part of this exciting development from the ground up!
X-ALT-DESC;FMTTYPE=text/html:<span style="font-family:montserrat\,sans-serif\; font-size:16px"><span style="font-family:arial\,sans-serif"><span style="font-size:9pt">It&rsquo\;s inspiring. It&rsquo\;s environmentally conscious. And it&rsquo\;s designed specifically for active\, independent Wisconsin seniors.&nbsp\;</span></span></span><br />\n<br />\n<span style="font-family:montserrat\,sans-serif\; font-size:16px"><span style="font-family:arial\,sans-serif"><span style="font-size:9pt">Join us to learn more about the newest 55+ senior living community coming to the Fitchburg area.&nbsp\;<br />\nOffering independent living and a full continuum of care\, The Cesta will be u</span></span></span><span style="color:rgb(85\, 85\, 85)\; font-family:arial\,sans-serif\; font-size:16px"><span style="font-size:9pt"><span style="color:rgba(0\, 0\, 0\, 0.9)">nlike anything that is on the market. This community will combine elegance\, fine dining\, luxury apartments and amenities while staying rooted in the multigenerational neighborhood\, Terravessa. Open community spaces\, urban farming\, sustainability and inclusivity are key to this design.<br />\n<br />\nWe invite you to be a part of this exciting development from the ground up!&nbsp\;</span></span></span>
LOCATION:Fitchburg Public Library Meeting Room (2nd Floor)
UID:e.1970.2786
SEQUENCE:3
DTSTAMP:20260422T222659Z
URL:https://business.fitchburgchamber.com/events/details/shine-dine-an-introduction-to-the-cesta-05-05-2023-2786
END:VEVENT

END:VCALENDAR
