BEGIN:VCALENDAR
VERSION:2.0
PRODID:-//ChamberMaster//Event Calendar 2.0//EN
METHOD:PUBLISH
X-PUBLISHED-TTL:P3D
REFRESH-INTERVAL:P3D
CALSCALE:GREGORIAN
BEGIN:VEVENT
DTSTART:20230316T180000Z
DTEND:20230316T200000Z
X-MICROSOFT-CDO-ALLDAYEVENT:FALSE
SUMMARY:The Cesta Presents: Downsizing with Moving Forward Wisconsin
DESCRIPTION:Join us to learn about Fitchburg's newest senior living community & hear from an industry expert on how to live clutter free in 2023.\n\n\n\nWe welcome Moving Forward Wisconsin?s\, Kathie Newman\, to our event. She will share information about how her organization assists in organizing\, sorting\, and downsizing. Kathie will provide the information you need in order to make informed decisions about your next steps.\n\n\n\nHear the details on Fitchburg?s newest senior living community\, The Cesta. Currently under development\, The Cesta will offer a full continuum of care. This life-lease community is designed specifically for active\, independent Wisconsin seniors.\n\n\n\nWe know together we live more fully\, move with greater purpose\, enjoy the richness of life. The Cesta is just the beginning. The Cesta is a whole new way to experience senior living.\n\n\n\nWe invite you to be a part of this exciting development from the ground up!
X-ALT-DESC;FMTTYPE=text/html:<p><span style="background-color:rgb(255\, 255\, 255)\; color:rgba(0\, 0\, 0\, 0.9)">Join us to learn about Fitchburg's newest senior living community &amp\; hear from an industry expert on how to live clutter free in 2023.</span><br>\n<br>\nWe welcome Moving Forward Wisconsin?s\, Kathie Newman\, to our event. She will share information about how her organization assists in organizing\, sorting\, and downsizing. Kathie will provide the information you need in order to make informed decisions about your next steps.<br>\n<br>\nHear the details on Fitchburg?s newest senior living community\, The Cesta. Currently under development\, The Cesta will offer a full continuum of care. This life-lease community is designed specifically for active\, independent Wisconsin seniors.<br>\n<br>\nWe know together we live more fully\, move with greater purpose\, enjoy the richness of life. The Cesta is just the beginning. The Cesta is a whole new way to experience senior living.<br>\n<br>\n<span style="background-color:rgb(255\, 255\, 255)\; color:rgba(0\, 0\, 0\, 0.9)">We invite you to be a part of this exciting development from the ground up!&nbsp\;</span></p>\n
LOCATION:Fitchburg Public Library Meeting Room (2nd Floor)
UID:e.1970.2783
SEQUENCE:3
DTSTAMP:20260422T190053Z
URL:https://business.fitchburgchamber.com/events/details/shine-dine-an-introduction-to-the-cesta-03-16-2023-2783
END:VEVENT

END:VCALENDAR
