BEGIN:VCALENDAR
VERSION:2.0
PRODID:-//ChamberMaster//Event Calendar 2.0//EN
METHOD:PUBLISH
X-PUBLISHED-TTL:P3D
REFRESH-INTERVAL:P3D
CALSCALE:GREGORIAN
BEGIN:VEVENT
DTSTART;VALUE=DATE:20260613
DTEND;VALUE=DATE:20260614
TRANSP:TRANSPARENT
X-MICROSOFT-CDO-ALLDAYEVENT:TRUE
SUMMARY:Serve\, Smash and Remember: A Pickleball Tournament
DESCRIPTION:Help support cutting edge research to slow\, delay and prevent the onset of Alzheimer's at the Serve\, Smash\, and Remember Pickleball Tournament. Special Guests will include - Matt Lepay\, the voice of the Badgers\, Bucky Badger and the UW Pickleball Club and other guest celebrities!\n\n\n\nAll proceeds will be donated to support UW's work to improve the live of people affected by this devastating diagnosis.
X-ALT-DESC;FMTTYPE=text/html:Help support cutting edge research to slow\, delay and prevent the onset of Alzheimer&#39\;s at the Serve\, Smash\, and Remember Pickleball Tournament. Special Guests will include - Matt Lepay\, the voice of the Badgers\, Bucky Badger and the UW Pickleball Club and other guest celebrities!<br />\n<br />\nAll proceeds will be donated to support UW&#39\;s work to improve the live of people affected by this devastating diagnosis.
LOCATION:McGaw Park
UID:e.1970.11329
SEQUENCE:3
DTSTAMP:20260424T205522Z
URL:https://business.fitchburgchamber.com/events/details/serve-smash-and-remember-nbsp-a-pickleball-tournament-11329
END:VEVENT

END:VCALENDAR
