BEGIN:VCALENDAR
VERSION:2.0
PRODID:-//ChamberMaster//Event Calendar 2.0//EN
METHOD:PUBLISH
X-PUBLISHED-TTL:P3D
REFRESH-INTERVAL:P3D
CALSCALE:GREGORIAN
BEGIN:VEVENT
DTSTART:20220319T230000Z
DTEND:20220320T020000Z
X-MICROSOFT-CDO-ALLDAYEVENT:FALSE
SUMMARY:Ryan McGrath Band at Hop Haus Brewing Co.
DESCRIPTION:See the Ryan McGrath Band at the Hop Haus Fitchburg. The Ryan McGrath Band is a Madison\, WI-based blues\, country and rock band\, deeply rooted in classic American music.\n\n\n\nThe perfect soundtrack for a cross-country road trip\, the band draws its influences from blues legends and country greats. Featuring: Paul Sabel on Harmonica\, and Ryan McGrath on guitar/vocals.
X-ALT-DESC;FMTTYPE=text/html:See the Ryan McGrath Band at the Hop Haus Fitchburg. The Ryan McGrath Band is a Madison\, WI-based blues\, country and rock band\, deeply rooted in classic American music.<br />\n<br />\nThe perfect soundtrack for a cross-country road trip\, the band draws its influences from blues legends and country greats. Featuring: Paul Sabel on Harmonica\, and Ryan McGrath on guitar/vocals.
LOCATION:Hop Haus Brewing Fitchburg 2975 Sub Zero Parkway\, Fitchburg
UID:e.1970.1650
SEQUENCE:3
DTSTAMP:20260419T213110Z
URL:https://business.fitchburgchamber.com/events/details/ryan-mcgrath-band-at-hop-haus-brewing-co-1650
END:VEVENT

END:VCALENDAR
