BEGIN:VCALENDAR
VERSION:2.0
PRODID:-//ChamberMaster//Event Calendar 2.0//EN
METHOD:PUBLISH
X-PUBLISHED-TTL:P3D
REFRESH-INTERVAL:P3D
CALSCALE:GREGORIAN
BEGIN:VEVENT
DTSTART:20230927T223000Z
DTEND:20230928T013000Z
X-MICROSOFT-CDO-ALLDAYEVENT:FALSE
SUMMARY:Quivey's Oktoberfest Under The Tent
DESCRIPTION:Join Quivey's Grove For Oktoberfest Under The Paddock Tent!\n\n\n\nWednesday\, September 27th\n\n\n\nEndless German Beer With Your Own Souvenir Glass Mug \n\n\n\nand an Authentic Bavarian Dinner!  \n\n\n\nOn Tap!61 \n\n\n\nSpaten Oktoberfest\n\n\n\nNew Glarus Staghorn\n\n\n\nOso O-toberfest\n\n\n\nTyranenea Gemuetlichkeit Oktoberfest\n\n\n\nAppetizers\n\n\n\nWarm Soft Pretzels\n\n\n\nObatzda (German Beer Cheese Spread)\n\n\n\nBavarian Dinner\n\n\n\nBrotchen (Hard Rolls with Butter)\n\n\n\nWeisswurst (Veal Sausage)\n\n\n\nSchweinshaxe (Mini Pork Shank)\n\n\n\nKassler Ripchen (Smoked Pork Chop)\n\n\n\nKartoffelsalat (German Potato Salad with Bacon)\n\n\n\nSauerkraut\n\n\n\nApfel Kuchen (German Apple Cake)\n\n\n\nBeer & Appetizers Starting at 5:30PM\n\n\n\nDinner Served at 6:30PM\n\n\n\n$50 per person plus service charge\, taxes & fees
X-ALT-DESC;FMTTYPE=text/html:Join Quivey&#39\;s Grove For Oktoberfest Under The Paddock Tent!<br />\n<br />\nWednesday\, September 27th<br />\n<br />\nEndless German Beer With Your Own Souvenir Glass Mug&nbsp\;<br />\n<br />\nand an Authentic Bavarian Dinner!&nbsp\;&nbsp\;<br />\n<br />\nOn Tap!61&nbsp\;<br />\n<br />\nSpaten Oktoberfest<br />\n<br />\nNew Glarus Staghorn<br />\n<br />\nOso O-toberfest<br />\n<br />\nTyranenea Gemuetlichkeit Oktoberfest<br />\n<br />\nAppetizers<br />\n<br />\nWarm Soft Pretzels<br />\n<br />\nObatzda (German Beer Cheese Spread)<br />\n<br />\nBavarian Dinner<br />\n<br />\nBrotchen (Hard Rolls with Butter)<br />\n<br />\nWeisswurst (Veal Sausage)<br />\n<br />\nSchweinshaxe (Mini Pork Shank)<br />\n<br />\nKassler Ripchen (Smoked Pork Chop)<br />\n<br />\nKartoffelsalat (German Potato Salad with Bacon)<br />\n<br />\nSauerkraut<br />\n<br />\nApfel Kuchen (German Apple Cake)<br />\n<br />\nBeer &amp\; Appetizers Starting at 5:30PM<br />\n<br />\nDinner Served at 6:30PM<br />\n<br />\n$50 per person plus service charge\, taxes &amp\; fees
LOCATION:Quivey's Grove 6261 Nesbitt Road\, Fitchburg
UID:e.1970.3137
SEQUENCE:3
DTSTAMP:20260423T035053Z
URL:https://business.fitchburgchamber.com/events/details/quivey-s-oktoberfest-under-the-tent-3137
END:VEVENT

END:VCALENDAR
