BEGIN:VCALENDAR
VERSION:2.0
PRODID:-//ChamberMaster//Event Calendar 2.0//EN
METHOD:PUBLISH
X-PUBLISHED-TTL:P3D
REFRESH-INTERVAL:P3D
CALSCALE:GREGORIAN
BEGIN:VEVENT
DTSTART:20240227T230000Z
DTEND:20240301T020000Z
X-MICROSOFT-CDO-ALLDAYEVENT:FALSE
SUMMARY:Quivey's Grove Basic Beer Dinner
DESCRIPTION:Attention all beer lovers! Join us in the Stable Grill February 27th through the 29th for a simple but delicious beer tasting dinner! \n\n\n\nWe will offer our most basic beer dinner Feb 27 - 29 from 5pm till 8pm\, in the Stable Grill. No reservations required\, limited quantities each evening. \n\n\n\nWisconsin's Most Basic Beer Dinner\n\n\n\nNo substitutions. Four-ounce beer taste with each course.\n\n\n\nThe key to food and beverage pairings is to accentuate and/or balance flavors in the food. Bitter balances sweet\, sweet accentuates tart \n\n\n\nThe taste combinations below will be sure to delight you!\n\n\n\nPotato-Bacon Puffs\n\n\n\nwith spicy jalapeno ranch dressing\n\n\n\nThird Space Happy Place\n\n\n\nWisconsin Beer Cheese Soup\n\n\n\nPotosi Cave Amber Ale\n\n\n\nBeer Brined Boneless Barbeque Pork Chop\n\n\n\nwith potatoes smashed with garlic butter\, herbs\, and cream\n\n\n\n3 Floyds Zombie Dust\n\n\n\nChocolate Steam Pudding\n\n\n\nwith fluffy sauce\n\n\n\nGreat Lakes Edmund Fitzgerlad Porter\n\n\n\n$30 per person\n\n\n\n+ 5.5% tax & 20% gratuity
X-ALT-DESC;FMTTYPE=text/html:Attention all beer lovers! Join us in the Stable Grill February 27th through the 29th for a simple but delicious beer tasting dinner!&nbsp\;<br />\n<br />\nWe will offer our most basic beer dinner Feb 27 - 29 from 5pm till 8pm\, in the Stable Grill. No reservations required\, limited quantities each evening.&nbsp\;<br />\n<br />\nWisconsin&rsquo\;s Most Basic Beer Dinner<br />\n<br />\nNo substitutions. Four-ounce beer taste with each course.<br />\n<br />\nThe key to food and beverage pairings is to accentuate and/or balance flavors in the food. Bitter balances sweet\, sweet accentuates tart&hellip\;<br />\n<br />\nThe taste combinations below will be sure to delight you!<br />\n<br />\nPotato-Bacon Puffs<br />\n<br />\nwith spicy jalapeno ranch dressing<br />\n<br />\nThird Space Happy Place<br />\n<br />\nWisconsin Beer Cheese Soup<br />\n<br />\nPotosi Cave Amber Ale<br />\n<br />\nBeer Brined Boneless Barbeque Pork Chop<br />\n<br />\nwith potatoes smashed with garlic butter\, herbs\, and cream<br />\n<br />\n3 Floyds Zombie Dust<br />\n<br />\nChocolate Steam Pudding<br />\n<br />\nwith fluffy sauce<br />\n<br />\nGreat Lakes Edmund Fitzgerlad Porter<br />\n<br />\n$30 per person<br />\n<br />\n+ 5.5% tax &amp\; 20% gratuity
LOCATION:Quivey's Grove 6261 Nesbitt Road\, Fitchburg
UID:e.1970.5065
SEQUENCE:3
DTSTAMP:20260423T130246Z
URL:https://business.fitchburgchamber.com/events/details/quivey-s-grove-basic-beer-dinner-5065
END:VEVENT

END:VCALENDAR
