BEGIN:VCALENDAR
VERSION:2.0
PRODID:-//ChamberMaster//Event Calendar 2.0//EN
METHOD:PUBLISH
X-PUBLISHED-TTL:P3D
REFRESH-INTERVAL:P3D
CALSCALE:GREGORIAN
BEGIN:VEVENT
DTSTART:20210930T233000Z
DTEND:20211001T013000Z
X-MICROSOFT-CDO-ALLDAYEVENT:FALSE
SUMMARY:Public Meeting and Open House for Comprehensive Park\, Open Space\, and Recreation Plan
DESCRIPTION:The City of Fitchburg Planning Department and Fitchburg Parks Department are working to update the City's Comprehensive Park\, Open Space\, and Recreation Plan. The plan sets goals\, objectives\, and policies for developing and improving Fitchburg's park and open space system and protecting the community's valued resources. The Plan also provides mid-term and long-term recommendations for achieving those goals and objectives. An up-to-date Plan is required for the City to be eligible for county\, state\, and federal grants. \n\n\n\nCity staff will be gathering feedback from all interested parties on the Plan update\, at an open house and public meeting scheduled for 6:30 p.m.\, Thursday\, September 30\, Council Chambers\, Fitchburg City Hall\, 5520 Lacy Road\, Fitchburg. The open house will be held from 6:30   7:00 p.m.\, with a presentation and other formal feedback opportunities scheduled for 7:00 p.m.
X-ALT-DESC;FMTTYPE=text/html:The City of Fitchburg Planning Department and Fitchburg Parks Department are working to update the City&rsquo\;s Comprehensive Park\, Open Space\, and Recreation Plan. The plan sets goals\, objectives\, and policies for developing and improving Fitchburg&#39\;s park and open space system and protecting the community&#39\;s valued resources. The Plan also provides mid-term and long-term recommendations for achieving those goals and objectives. An up-to-date Plan is required for the City to be eligible for county\, state\, and federal grants.&nbsp\;<br />\n<br />\nCity staff will be gathering feedback from all interested parties on the Plan update\, at an open house and public meeting scheduled for 6:30 p.m.\, Thursday\, September 30\, Council Chambers\, Fitchburg City Hall\, 5520 Lacy Road\, Fitchburg. The open house will be held from 6:30 &ndash\; 7:00 p.m.\, with a presentation and other formal feedback opportunities scheduled for 7:00 p.m.
LOCATION:Fitchburg City Hall 5520 Lacy Road\, Fitchburg
UID:e.1970.1346
SEQUENCE:3
DTSTAMP:20260419T130019Z
URL:https://business.fitchburgchamber.com/events/details/public-meeting-and-open-house-for-comprehensive-park-open-space-and-recreation-plan-1346
END:VEVENT

END:VCALENDAR
