BEGIN:VCALENDAR
VERSION:2.0
PRODID:-//ChamberMaster//Event Calendar 2.0//EN
METHOD:PUBLISH
X-PUBLISHED-TTL:P3D
REFRESH-INTERVAL:P3D
CALSCALE:GREGORIAN
BEGIN:VEVENT
DTSTART:20220607T203000Z
DTEND:20220607T233000Z
X-MICROSOFT-CDO-ALLDAYEVENT:FALSE
SUMMARY:Promega Summer Art Showcase Opening
DESCRIPTION:The Promega Art Showcase is returning to the Madison art scene after a long absence due to the COVID-19 pandemic. Promega art shows have been paused since March 2020\, but the hiatus will end June 7\, 2022\, with the opening of the newest exhibition\, "A Vibrant Welcome Back!"\n\n\n\n"A Vibrant Welcome Back!" features the artwork of Derrick Buisch and Bettina Madini. Buisch is known for abstract work with rich experimentation involving paint chemistry\, color\, installations and scale. Madini will showcase paintings and fashion accessories distinguished by luscious color and expressive motion.\n\n\n\nSymposium and Opening Reception\n\n\n\nArtists will share their creative process and the inspiration behind their work during a symposium on Tuesday\, June 7\, 2022\, at 3:30 pm followed by an opening reception 4:30 - 6:30 pm at the Promega BioPharmaceutical Technology Center\, 5445 E Cheryl Parkway in Fitchburg.\n\n\n\nBoth events are free and open to the public. Attendees will be required to show proof of vaccination status. Proof of vaccination status is also required to view the exhibit June 7-September 10\, 2022. Visit here for current Promega COVID-19 protocols.
X-ALT-DESC;FMTTYPE=text/html:The Promega Art Showcase is returning to the Madison art scene after a long absence due to the COVID-19 pandemic. Promega art shows have been paused since March 2020\, but the hiatus will end June 7\, 2022\, with the opening of the newest exhibition\, &ldquo\;A Vibrant Welcome Back!&rdquo\;<br />\n<br />\n&ldquo\;A Vibrant Welcome Back!&rdquo\; features the artwork of Derrick Buisch and Bettina Madini. Buisch is known for abstract work with rich experimentation involving paint chemistry\, color\, installations and scale. Madini will showcase paintings and fashion accessories distinguished by luscious color and expressive motion.<br />\n<br />\nSymposium and Opening Reception<br />\n<br />\nArtists will share their creative process and the inspiration behind their work during a symposium on Tuesday\, June 7\, 2022\, at 3:30 pm followed by an opening reception 4:30 - 6:30 pm at the Promega BioPharmaceutical Technology Center\, 5445 E Cheryl Parkway in Fitchburg.<br />\n<br />\nBoth events are free and open to the public. Attendees will be required to show proof of vaccination status. Proof of vaccination status is also required to view the exhibit June 7-September 10\, 2022. Visit here for current Promega COVID-19 protocols.
LOCATION:Promega BTC\, 5445 E. Cheryl Parkway\, Fitchburg
UID:e.1970.2016
SEQUENCE:3
DTSTAMP:20260420T042002Z
URL:https://business.fitchburgchamber.com/events/details/promega-summer-art-showcase-opening-2016
END:VEVENT

END:VCALENDAR
