BEGIN:VCALENDAR
VERSION:2.0
PRODID:-//ChamberMaster//Event Calendar 2.0//EN
METHOD:PUBLISH
X-PUBLISHED-TTL:P3D
REFRESH-INTERVAL:P3D
CALSCALE:GREGORIAN
BEGIN:VEVENT
DTSTART:20230930T000000Z
DTEND:20230930T013000Z
X-MICROSOFT-CDO-ALLDAYEVENT:FALSE
SUMMARY:Pour Your Own Epoxy™ at Delta Beer Lab
DESCRIPTION:Join us for a fun and informative class to learn the art of epoxy and create a beautiful Charcuterie Board or Lazy Susan!\n\n \n\nProjects will be made with black walnut or other lighter species of hardwoods. You will choose up to 2 colors of epoxy during class. All materials will be provided.\n\n \n\nFinal Projects have about a two week lead time and will be returned to Delta Beer Lab for pickup. Emails will be sent to ticket holders when boards are delivered. Shipping options are available for $20 per project.\n\n \n\nAll ticket sales are final\, if you are not able to attend you may have someone take your place. All attendees above the age of 12 must have a ticket.
X-ALT-DESC;FMTTYPE=text/html:<div>Join us for a fun and informative class to learn the art of epoxy and create a beautiful Charcuterie Board or Lazy Susan!<br />\n&nbsp\;</div>\n\n<div>Projects will be made with black walnut or other lighter species of hardwoods. You will choose up to 2 colors of epoxy during class. All materials will be provided.<br />\n&nbsp\;</div>\n\n<div>Final Projects have about a two week lead time and will be returned to Delta Beer Lab for pickup. Emails will be sent to ticket holders when boards are delivered. Shipping options are available for $20 per project.<br />\n&nbsp\;</div>\n\n<div>All ticket sales are final\, if you are not able to attend you may have someone take your place. All attendees above the age of 12 must have a ticket.</div>\n
LOCATION:Delta Beer Lab 167 E Badger Rd Madison\, WI 53713
UID:e.1970.3133
SEQUENCE:3
DTSTAMP:20260423T051212Z
URL:https://business.fitchburgchamber.com/events/details/pour-your-own-epoxy-at-delta-beer-lab-09-29-2023-3133
END:VEVENT

END:VCALENDAR
