BEGIN:VCALENDAR
VERSION:2.0
PRODID:-//ChamberMaster//Event Calendar 2.0//EN
METHOD:PUBLISH
X-PUBLISHED-TTL:P3D
REFRESH-INTERVAL:P3D
CALSCALE:GREGORIAN
BEGIN:VEVENT
DTSTART:20230519T210000Z
DTEND:20230520T000000Z
X-MICROSOFT-CDO-ALLDAYEVENT:FALSE
SUMMARY:Pop-Up Bike Repair at Delta Beer Lab
DESCRIPTION:Curbside Bicycles is coming to Delta Beer Lab to offer on-site tune-ups for the best price in town. Same day bike tune-up for only $95! Other shops in town cost $150 and are 3 weeks out!\n\n\n\n$95 tune-up includes bike cleaning and safety check\, shift testing and adjustment\, brake testing and adjustment\, lube chain and pivot points\, torque down major bolts\, and tire wear and pressure.\n\n\n\nRSVP required\n\nVisit  https://signup.com/go/JELJZBp to RSVP
X-ALT-DESC;FMTTYPE=text/html:Curbside Bicycles is coming to Delta Beer Lab to offer on-site tune-ups for the best price in town. Same day bike tune-up for only $95! Other shops in town cost $150 and are 3 weeks out!<br />\n<br />\n$95 tune-up includes bike cleaning and safety check\, shift testing and adjustment\, brake testing and adjustment\, lube chain and pivot points\, torque down major bolts\, and tire wear and pressure.<br />\n<br />\nRSVP required<br />\nVisit&nbsp\;<span style="color:rgb(34\, 34\, 34)\; font-family:arial\,helvetica\,sans-serif\; font-size:small">&nbsp\;</span><a href="https://signup.com/go/JELJZBp" style="color: rgb(17\, 85\, 204)\; font-family: Arial\, Helvetica\, sans-serif\; font-size: small\;" target="_blank">https://signup.com/go/JELJZBp</a> to RSVP
LOCATION:Delta Beer Lab 167 E Badger Rd Madison\, WI 53713
UID:e.1970.3042
SEQUENCE:3
DTSTAMP:20260422T222626Z
URL:https://business.fitchburgchamber.com/events/details/pop-up-bike-repair-at-delta-beer-lab-3042
END:VEVENT

END:VCALENDAR
