BEGIN:VCALENDAR
VERSION:2.0
PRODID:-//ChamberMaster//Event Calendar 2.0//EN
METHOD:PUBLISH
X-PUBLISHED-TTL:P3D
REFRESH-INTERVAL:P3D
CALSCALE:GREGORIAN
BEGIN:VEVENT
DTSTART:20220325T213000Z
DTEND:20220325T230000Z
X-MICROSOFT-CDO-ALLDAYEVENT:FALSE
SUMMARY:Poké and Beer Flights at Delta Beer Lab
DESCRIPTION:Join Delta Beer Lab for a special Flight Night on Friday\, March 25th!\n\nYou'll receive a flight of 2 pok  bowls and one flight of beer for just $23!\n\nChoose two (2) of the following bowls from FreshFin:\n\n-Spicy Tuna\n\n-Power Ginger Tofu\n\n-Cilantro Chicken\n\n-Curry Coconut Shrimp\n\n\n\nBeer Flight is created by Delta Beer Lab special to event. *Can be modified for gluten allergies.\n\n\n\nOrder your pok  flights before 12PM on Friday\, March 25th with the link below:\n\nhttps://www.toasttab.com/.../4ec971b2-6391-4de9-a40a...\n\n*Make sure you are ordering from the "Delta Beer Lab Event" section.*\n\n\n\nPlease note any allergies when ordering.\n\n\n\nOnce at the event\, you will pick up your pok  flight and choose your beer selections and ENJOY!
X-ALT-DESC;FMTTYPE=text/html:Join Delta Beer Lab for a special Flight Night on Friday\, March 25th!<br />\nYou&#39\;ll receive a flight of 2 pok&eacute\; bowls and one flight of beer for just $23!<br />\nChoose two (2) of the following bowls from FreshFin:<br />\n-Spicy Tuna<br />\n-Power Ginger Tofu<br />\n-Cilantro Chicken<br />\n-Curry Coconut Shrimp<br />\n<br />\nBeer Flight is created by Delta Beer Lab special to event. *Can be modified for gluten allergies.<br />\n<br />\nOrder your pok&eacute\; flights before 12PM on Friday\, March 25th with the link below:<br />\n<strong><a href="https://www.toasttab.com/freshfin-madison-502-university-ave/v3/add/708ce2b9-10a6-4c24-94af-7487646ddbfa/4ec971b2-6391-4de9-a40a-eef9f6b413b3?fbclid=IwAR1ceaVqpPLjAGmECSXSh0S9PCHoam8MYSoNlCciGzEpWuAvjEuLLNPuYZQ">https://www.toasttab.com/.../4ec971b2-6391-4de9-a40a...</a></strong><br />\n*Make sure you are ordering from the &quot\;Delta Beer Lab Event&quot\; section.*<br />\n<br />\nPlease note any allergies when ordering.<br />\n<br />\nOnce at the event\, you will pick up your pok&eacute\; flight and choose your beer selections and ENJOY!
LOCATION:Delta Beer Lab 167 E. Badger Road\, Madison
UID:e.1970.1665
SEQUENCE:3
DTSTAMP:20260419T212830Z
URL:https://business.fitchburgchamber.com/events/details/pok&#233;-and-beer-flights-at-delta-beer-lab-1665
END:VEVENT

END:VCALENDAR
