BEGIN:VCALENDAR
VERSION:2.0
PRODID:-//ChamberMaster//Event Calendar 2.0//EN
METHOD:PUBLISH
X-PUBLISHED-TTL:P3D
REFRESH-INTERVAL:P3D
CALSCALE:GREGORIAN
BEGIN:VEVENT
DTSTART:20230331T230000Z
DTEND:20230401T020000Z
X-MICROSOFT-CDO-ALLDAYEVENT:FALSE
SUMMARY:Pint & Pour at Delta Beer Lab
DESCRIPTION:Join Hammer & Stain Madison at the Delta Beer Lab for a night of crafting and beer.  Try out paint pouring to make a pair of unique pint glasses.\n\nRegistration includes your first drink!\n\nPaint pour colors will be chosen at the workshop.
X-ALT-DESC;FMTTYPE=text/html:<div>\n<p>Join Hammer &amp\; Stain Madison at the Delta Beer Lab for a night of crafting and beer.&nbsp\; Try out paint pouring to make a pair of unique pint glasses.</p>\n\n<p><em>Registration includes your first drink!</em></p>\n\n<p>Paint pour colors will be chosen at the workshop.&nbsp\;</p>\n</div>\n
LOCATION:Delta Beer Lab 167 E Badger Rd Madison\, WI 53713
UID:e.1970.2830
SEQUENCE:3
DTSTAMP:20260422T185819Z
URL:https://business.fitchburgchamber.com/events/details/pint-pour-at-delta-beer-lab-2830
END:VEVENT

END:VCALENDAR
