BEGIN:VCALENDAR
VERSION:2.0
PRODID:-//ChamberMaster//Event Calendar 2.0//EN
METHOD:PUBLISH
X-PUBLISHED-TTL:P3D
REFRESH-INTERVAL:P3D
CALSCALE:GREGORIAN
BEGIN:VEVENT
DTSTART:20220609T230000Z
DTEND:20220610T010000Z
X-MICROSOFT-CDO-ALLDAYEVENT:FALSE
SUMMARY:Patio Music Series - Scott Clay
DESCRIPTION:Scott Clay will be joining us for an evening of live\, outdoor music on the patio from 6-8 pm.\n\n\n\nA little about Scott:\n\nScott Clay is an up and coming songwriter who has been hitting the road hard and touring all over the country with his music.\n\n\n\nHe will be touring Wisconsin this summer and looks forward to performing with you\, he performs Folk-Americana originals and/or cover songs by artists such as Eric Clapton\, Steve Miller Band and Tom Petty and aims to keep the music light-hearted and upbeat.\n\n\n\nWebsite: https://www.scottclaymusic.com/
X-ALT-DESC;FMTTYPE=text/html:Scott Clay will be joining us for an evening of live\, outdoor music on the patio from 6-8 pm.<br />\n<br />\nA little about Scott:<br />\nScott Clay is an up and coming songwriter who has been hitting the road hard and touring all over the country with his music.<br />\n<br />\nHe will be touring Wisconsin this summer and looks forward to performing with you\, he performs Folk-Americana originals and/or cover songs by artists such as Eric Clapton\, Steve Miller Band and Tom Petty and aims to keep the music light-hearted and upbeat.<br />\n<br />\nWebsite: https://www.scottclaymusic.com/
LOCATION:Delta Beer Lab 167 E. Badger Road\, Madison
UID:e.1970.2017
SEQUENCE:3
DTSTAMP:20260420T023215Z
URL:https://business.fitchburgchamber.com/events/details/patio-music-series-scott-clay-2017
END:VEVENT

END:VCALENDAR
