BEGIN:VCALENDAR
VERSION:2.0
PRODID:-//ChamberMaster//Event Calendar 2.0//EN
METHOD:PUBLISH
X-PUBLISHED-TTL:P3D
REFRESH-INTERVAL:P3D
CALSCALE:GREGORIAN
BEGIN:VEVENT
DTSTART:20230718T220000Z
DTEND:20230719T010000Z
X-MICROSOFT-CDO-ALLDAYEVENT:FALSE
SUMMARY:Parks Alive | Aldo Leopold Park
DESCRIPTION:Parks Alive builds stronger neighborhoods and connects neighbors to their parks through fun\, family-friendly activities\, music and free food. Events are held in parks across the city and throughout the summer. Connect with your neighbors and engage with your community at a Parks Alive event near you! Parks Alive in Aldo Leopold Park: June 20\, July 18\, August 1\, August 15\n\n\n\nLlevados a cabo en los parques de todo Madison\, los eventos de Los Parques Vivos son una oportunidad para visitar su parque local\, escuchar m sica\, participar en la diversi n\, realizar actividades en familia y con amigos\, disfrutar de comida gratuita y conocer a sus vecinos. Crear conexiones con su comunidad y disfrutar de las  reas verdes alrededor de toda la ciudad en eventos a lo largo de todo el verano.\n\nParque Aldo Leopold: 20 de Junio\, 18 de Julio\, 1 de Agosto\, 15 de Agosto\n\n\n\nParks Alive Tsim Cov Zej Zos Ua Ruaj Khov\n\nCov chaw uasi hauv Nroog Madison tau tsim kev txhawb kom neeg mus ncig uasi hauv Nroog Madison cov chaw uasi\, mloog nkauj uake\, koom nrog kev lom zem\, kev uasi nrog lwm tus\, kev zoo siab noj zaub mov pub dawb uake\, thiab kom paub cov neeg nyob yus zej zos zoo dua. Tuaj uasi nrog peb tsim kev sib txuas nrog koj lub zej zos uasi sab nraum\, muaj thoob plaws lub nroog cov chaw uasi thaum lub caij ntuj sov.
X-ALT-DESC;FMTTYPE=text/html:<br />\nParks Alive builds stronger neighborhoods and connects neighbors to their parks through fun\, family-friendly activities\, music and free food. Events are held in parks across the city and throughout the summer. Connect with your neighbors and engage with your community at a Parks Alive event near you! Parks Alive in Aldo Leopold Park: June 20\, July 18\, August 1\, August 15<br />\n<br />\nLlevados a cabo en los parques de todo Madison\, los eventos de Los Parques Vivos son una oportunidad para visitar su parque local\, escuchar m&uacute\;sica\, participar en la diversi&oacute\;n\, realizar actividades en familia y con amigos\, disfrutar de comida gratuita y conocer a sus vecinos. Crear conexiones con su comunidad y disfrutar de las &aacute\;reas verdes alrededor de toda la ciudad en eventos a lo largo de todo el verano.<br />\nParque Aldo Leopold: 20 de Junio\, 18 de Julio\, 1 de Agosto\, 15 de Agosto<br />\n<br />\nParks Alive Tsim Cov Zej Zos Ua Ruaj Khov<br />\nCov chaw uasi hauv Nroog Madison tau tsim kev txhawb kom neeg mus ncig uasi hauv Nroog Madison cov chaw uasi\, mloog nkauj uake\, koom nrog kev lom zem\, kev uasi nrog lwm tus\, kev zoo siab noj zaub mov pub dawb uake\, thiab kom paub cov neeg nyob yus zej zos zoo dua. Tuaj uasi nrog peb tsim kev sib txuas nrog koj lub zej zos uasi sab nraum\, muaj thoob plaws lub nroog cov chaw uasi thaum lub caij ntuj sov.
LOCATION:Aldo Leopold Park 2906 Traceway Drive Madison\, WI
UID:e.1970.3082
SEQUENCE:3
DTSTAMP:20260423T001925Z
URL:https://business.fitchburgchamber.com/events/details/parks-alive-aldo-leopold-park-3082
END:VEVENT

END:VCALENDAR
