BEGIN:VCALENDAR
VERSION:2.0
PRODID:-//ChamberMaster//Event Calendar 2.0//EN
METHOD:PUBLISH
X-PUBLISHED-TTL:P3D
REFRESH-INTERVAL:P3D
CALSCALE:GREGORIAN
BEGIN:VEVENT
DTSTART:20230110T000000Z
DTEND:20230110T020000Z
X-MICROSOFT-CDO-ALLDAYEVENT:FALSE
SUMMARY:Paint Your Pet at Delta Beer Lab
DESCRIPTION:Gray Duck Art teaches painters of all ability levels how to paint their own pets! No art experience necessary. Painters submit a photo of their pet in advance\, which Gray Duck Art turns into a paint-by-number\, making class a fun and successful experience for all!\n\n\n\nIncludes one drink.
X-ALT-DESC;FMTTYPE=text/html:Gray Duck Art teaches painters of all ability levels how to paint their own pets! No art experience necessary. Painters submit a photo of their pet in advance\, which Gray Duck Art turns into a paint-by-number\, making class a fun and successful experience for all!<br />\n<br />\nIncludes one drink.
LOCATION:Delta Beer Lab 167 E Badger Rd Madison\, WI 53713
UID:e.1970.2734
SEQUENCE:3
DTSTAMP:20260422T155350Z
URL:https://business.fitchburgchamber.com/events/details/paint-your-pet-at-delta-beer-lab-2734
END:VEVENT

END:VCALENDAR
