BEGIN:VCALENDAR
VERSION:2.0
PRODID:-//ChamberMaster//Event Calendar 2.0//EN
METHOD:PUBLISH
X-PUBLISHED-TTL:P3D
REFRESH-INTERVAL:P3D
CALSCALE:GREGORIAN
BEGIN:VEVENT
DTSTART:20240214T003000Z
DTEND:20240214T020000Z
X-MICROSOFT-CDO-ALLDAYEVENT:FALSE
SUMMARY:Operation Ruck 22 Presentation
DESCRIPTION:Join Operation Ruck 22 of Wisconsin to learn more about local organizations in the community helping Veterans and their families. Hear directly from the organizations. Each organization was nominated from the Operation Ruck 22 of Wisconsin event on 09/30/2023. Learn more about the 22km annual March Operation Ruck 22 of Wisconsin puts together and how to get involved.
X-ALT-DESC;FMTTYPE=text/html:Join Operation Ruck 22 of Wisconsin to learn more about local organizations in the community helping Veterans and their families. Hear directly from the organizations. Each organization was nominated from the Operation Ruck 22 of Wisconsin event on 09/30/2023. Learn more about the 22km annual March Operation Ruck 22 of Wisconsin puts together and how to get involved.
LOCATION:2740 Ski Lane\, Madison WI
UID:e.1970.5038
SEQUENCE:3
DTSTAMP:20260423T130425Z
URL:https://business.fitchburgchamber.com/events/details/operation-ruck-22-presentation-5038
END:VEVENT

END:VCALENDAR
