BEGIN:VCALENDAR
VERSION:2.0
PRODID:-//ChamberMaster//Event Calendar 2.0//EN
METHOD:PUBLISH
X-PUBLISHED-TTL:P3D
REFRESH-INTERVAL:P3D
CALSCALE:GREGORIAN
BEGIN:VEVENT
DTSTART:20260507T200000Z
DTEND:20260507T230000Z
X-MICROSOFT-CDO-ALLDAYEVENT:FALSE
SUMMARY:Opening Day at Fitchburg Center Farmers Market
DESCRIPTION:The Fitchburg Center Farmers Market returns for our 30th season on Thursday\, May 7! Stop by the market from 3pm - 6pm and say hello to your favorite vendors\, listen to music of Shelley Faith\, grab a free tote bag\, and see what new products our vendors have to offer! The Fitchburg Chamber will also be in attendance\, handing out free water bottles\, summer event magnets\, guides\, and more!\n\nOur 2026 Vendors include:\n\nAlicia Taylor: Supreme Seafood\n\nAlise Mosley: Coco Reverie New!\n\nAndrew Beach: Son of a Beach Family Farm\n\nAndrew McNaught: Sugar River Country Bakery\n\nAngel Flores: Tortillas Los Angeles LLC\n\nCourtney Raatz: Four Winds Farm New!\n\nEric Ellis: Eric's Prairie New!\n\nHabib Douss: Greatlines Olive Oil\n\nJohn Daugherty: Farmer John's Cheese\n\nKyle Thom: Roots Down Community Farm\n\nLindsay Sanftleben: Travelin' Toms Coffee\n\nMee Xiong: Yangs Fresh Produce\n\nNatalie Ortega: Natalie's Garden & Greenhouse\n\nPatty Reedy: Rainbow Fleece Farm\n\nRobert Allen (Farmer Bob): Allen Farm Produce\n\nScott Laeser: Plowshares & Prairie Farm\n\nTamara Amakobe: Olympic Farms New!\n\nTanya Laiter: Rolling Pin Bake Shop\n\nTed Ballweg: Savory Accents\n\nYoua & Neng Lor: Lo Farm\n\nWe will also have a new Food Composting/Food Scrap drop off option with Ben Stanger from Green Box Compost\, and Ian Oestreich from Curbside Bicycles for bike repairs and tune ups!\n\nSee you there!
X-ALT-DESC;FMTTYPE=text/html:<div class="xdj266r x14z9mp xat24cr x1lziwak x1vvkbs" color:="" font-size:="" segoe="" style="margin-inline: 0px\; overflow-wrap: break-word\; margin-bottom: 0px\; margin-top: 0px\; font-family: " ui="">The Fitchburg Center Farmers Market returns for our 30th season on Thursday\, May 7! Stop by the market from 3pm - 6pm and say hello to your favorite vendors\, listen to music of Shelley Faith\, grab a free tote bag\, and see what new products our vendors have to offer! <u><strong>The Fitchburg Chamber will also be in attendance\, handing out free water bottles\, summer event magnets\, guides\, and more!</strong></u></div>\n\n<div class="x14z9mp xat24cr x1lziwak x1vvkbs xtlvy1s" color:="" font-size:="" segoe="" style="margin-inline: 0px\; overflow-wrap: break-word\; margin-bottom: 0px\; margin-top: 0.5em\; font-family: " ui="">Our 2026 Vendors include:</div>\n\n<div class="x14z9mp xat24cr x1lziwak x1vvkbs xtlvy1s" color:="" font-size:="" segoe="" style="margin-inline: 0px\; overflow-wrap: break-word\; margin-bottom: 0px\; margin-top: 0.5em\; font-family: " ui="">Alicia Taylor: Supreme Seafood<br class="html-br" />\nAlise Mosley: Coco Reverie New!<br class="html-br" />\nAndrew Beach: Son of a Beach Family Farm<br class="html-br" />\nAndrew McNaught: Sugar River Country Bakery<br class="html-br" />\nAngel Flores: Tortillas Los Angeles LLC<br class="html-br" />\nCourtney Raatz: Four Winds Farm New!<br class="html-br" />\nEric Ellis: Eric&rsquo\;s Prairie New!<br class="html-br" />\nHabib Douss: Greatlines Olive Oil<br class="html-br" />\nJohn Daugherty: Farmer John&rsquo\;s Cheese<br class="html-br" />\nKyle Thom: Roots Down Community Farm<br class="html-br" />\nLindsay Sanftleben: Travelin&rsquo\; Toms Coffee<br class="html-br" />\nMee Xiong: Yangs Fresh Produce<br class="html-br" />\nNatalie Ortega: Natalie&rsquo\;s Garden &amp\; Greenhouse<br class="html-br" />\nPatty Reedy: Rainbow Fleece Farm<br class="html-br" />\nRobert Allen (Farmer Bob): Allen Farm Produce<br class="html-br" />\nScott Laeser: Plowshares &amp\; Prairie Farm<br class="html-br" />\nTamara Amakobe: Olympic Farms New!<br class="html-br" />\nTanya Laiter: Rolling Pin Bake Shop<br class="html-br" />\nTed Ballweg: Savory Accents<br class="html-br" />\nYoua &amp\; Neng Lor: Lo Farm</div>\n\n<div class="x14z9mp xat24cr x1lziwak x1vvkbs xtlvy1s" color:="" font-size:="" segoe="" style="margin-inline: 0px\; overflow-wrap: break-word\; margin-bottom: 0px\; margin-top: 0.5em\; font-family: " ui="">We will also have a new Food Composting/Food Scrap drop off option with Ben Stanger from Green Box Compost\, and Ian Oestreich from Curbside Bicycles for bike repairs and tune ups!</div>\n\n<div class="x14z9mp xat24cr x1lziwak x1vvkbs xtlvy1s" color:="" font-size:="" segoe="" style="margin-inline: 0px\; overflow-wrap: break-word\; margin-bottom: 0px\; margin-top: 0.5em\; font-family: " ui="">See you there!</div>\n
LOCATION:Agora Pavilion
UID:e.1970.11326
SEQUENCE:3
DTSTAMP:20260422T134020Z
URL:https://business.fitchburgchamber.com/events/details/opening-day-at-fitchburg-center-farmers-market-11326
END:VEVENT

END:VCALENDAR
