BEGIN:VCALENDAR
VERSION:2.0
PRODID:-//ChamberMaster//Event Calendar 2.0//EN
METHOD:PUBLISH
X-PUBLISHED-TTL:P3D
REFRESH-INTERVAL:P3D
CALSCALE:GREGORIAN
BEGIN:VEVENT
DTSTART:20210916T230000Z
DTEND:20210917T020000Z
X-MICROSOFT-CDO-ALLDAYEVENT:FALSE
SUMMARY:Open Mic Night at The Tiger Tavern
DESCRIPTION:Come join Open mic night at The Tiger Tavern located within MadPower Training and Fitness Center (5264 Verona Road - the old dry bean).  Open Mic Night happens every Thursday evening from 6:00 PM-9:00 PM.  We can accommodate keyboardists (we have our own keyboard)\, vocalists - including Karaoke\, guitar players and percussionists - we have the bongos.  We'd also love people to join in the fun by coming to have a libation from our full bar and watching the show!  \n\nPlease contact us at:  608-212-0654 if you have any questions.
X-ALT-DESC;FMTTYPE=text/html:Come join Open mic night at The Tiger Tavern located within MadPower Training and Fitness Center (5264 Verona Road - the old dry bean).&nbsp\; Open Mic Night happens every Thursday evening from 6:00 PM-9:00 PM.&nbsp\; We can accommodate keyboardists (we have our own keyboard)\, vocalists - including Karaoke\, guitar players and percussionists - we have the bongos.&nbsp\; We'd also love people to join in the fun by coming to have a libation from our full bar and watching the show!&nbsp\;&nbsp\;<br>\nPlease contact us at:&nbsp\; 608-212-0654 if you have any questions.
LOCATION:
UID:e.1970.1331
SEQUENCE:3
DTSTAMP:20260419T125957Z
URL:https://business.fitchburgchamber.com/events/details/open-mic-night-at-the-tiger-tavern-1331
END:VEVENT

END:VCALENDAR
