BEGIN:VCALENDAR
VERSION:2.0
PRODID:-//ChamberMaster//Event Calendar 2.0//EN
METHOD:PUBLISH
X-PUBLISHED-TTL:P3D
REFRESH-INTERVAL:P3D
CALSCALE:GREGORIAN
BEGIN:VEVENT
DTSTART:20220308T180000Z
DTEND:20220308T190000Z
X-MICROSOFT-CDO-ALLDAYEVENT:FALSE
SUMMARY:Online Reviews: 5 Star State of Mind
DESCRIPTION:Five stars or one star\, all reviews are an opportunity to market your business. Do you have a strategy for managing online reviews? 93% of customers read reviews of local businesses before picking one\, so it's important to get it right. Learn how to manage your reputation and engage with users on Yelp and other review platforms.\n\nYou will learn:\n\n  Best ways to respond to reviews   good and bad.\n\n  Real examples and advice from businesses that are excellent at responding to reviews.\n\n  How to leverage reviews in your marketing.\n\n  Responding to reviews to drive new and repeat business across all platforms.\n\nWe hope you can join us virtually for "Online Reviews: 5-Star State of Mind" on Tuesday\, March 8\, 2022 at 12:00 PM CST.
X-ALT-DESC;FMTTYPE=text/html:<div>Five stars or one star\, all reviews are an opportunity to market your business. Do you have a strategy for managing online reviews? 93% of customers read reviews of local businesses before picking one\, so it&rsquo\;s important to get it right. Learn how to manage your reputation and engage with users on Yelp and other review platforms.</div>\n\n<div>You will learn:</div>\n\n<div>&bull\;<span style="white-space:pre"> </span>Best ways to respond to reviews &mdash\; good and bad.</div>\n\n<div>&bull\;<span style="white-space:pre"> </span>Real examples and advice from businesses that are excellent at responding to reviews.</div>\n\n<div>&bull\;<span style="white-space:pre"> </span>How to leverage reviews in your marketing.</div>\n\n<div>&bull\;<span style="white-space:pre"> </span>Responding to reviews to drive new and repeat business across all platforms.</div>\n\n<div>We hope you can join us virtually for &quot\;Online Reviews: 5-Star State of Mind&quot\; on Tuesday\, March 8\, 2022 at 12:00 PM CST.</div>\n
LOCATION:Register Here
UID:e.1970.1575
SEQUENCE:3
DTSTAMP:20260419T231338Z
URL:https://business.fitchburgchamber.com/events/details/online-reviews-5-star-state-of-mind-1575
END:VEVENT

END:VCALENDAR
