BEGIN:VCALENDAR
VERSION:2.0
PRODID:-//ChamberMaster//Event Calendar 2.0//EN
METHOD:PUBLISH
X-PUBLISHED-TTL:P3D
REFRESH-INTERVAL:P3D
CALSCALE:GREGORIAN
BEGIN:VEVENT
DTSTART:20211009T140000Z
DTEND:20211009T170000Z
X-MICROSOFT-CDO-ALLDAYEVENT:FALSE
SUMMARY:Oak Bank’s Great Pumpkin Give Away
DESCRIPTION:Oak Bank is proud to announce the Annual Great Pumpkin Give Away scheduled for Saturday\, Oct. 9th from 9am to noon. Families are welcome to come to Oak Bank's green space at 5951 McKee Road Fitchburg\, to enjoy kids' activities\, refreshments and horse and carriage rides! We will also have special guest appearances from local mascots. Mark your calendar! For more information\, call 441-6000 or visit us on Facebook.
X-ALT-DESC;FMTTYPE=text/html:Oak Bank is proud to announce the Annual Great Pumpkin Give Away scheduled for Saturday\, Oct. 9th from 9am to noon. Families are welcome to come to Oak Bank&rsquo\;s green space at 5951 McKee Road Fitchburg\, to enjoy kids&rsquo\; activities\, refreshments and horse and carriage rides! We will also have special guest appearances from local mascots. Mark your calendar! For more information\, call 441-6000 or visit us on Facebook.
LOCATION:5951 McKee Road Fitchburg
UID:e.1970.370
SEQUENCE:3
DTSTAMP:20260419T145213Z
URL:https://business.fitchburgchamber.com/events/details/oak-bank-s-great-pumpkin-give-away-370
END:VEVENT

END:VCALENDAR
