BEGIN:VCALENDAR
VERSION:2.0
PRODID:-//ChamberMaster//Event Calendar 2.0//EN
METHOD:PUBLISH
X-PUBLISHED-TTL:P3D
REFRESH-INTERVAL:P3D
CALSCALE:GREGORIAN
BEGIN:VEVENT
DTSTART:20231021T140000Z
DTEND:20231021T170000Z
X-MICROSOFT-CDO-ALLDAYEVENT:FALSE
SUMMARY:Oak Bank’s Great Pumpkin Give Away
DESCRIPTION:On Saturday\, October 21st\, 2023\, from 9 am to noon\, Oak Bank will be hosting our Great Pumpkin Give Away. Families are welcome to join us on our green space at 5951 McKee Road in Fitchburg\, to pick out pumpkins\, grab a goodie bag (while supplies last) and enjoy tractor-drawn wagon rides and a bounce house. Kids will have the opportunity to meet local mascots. All cash donations collected during the event will be donated to a local non-profit.
X-ALT-DESC;FMTTYPE=text/html:On Saturday\, October 21st\, 2023\, from 9 am to noon\, Oak Bank will be hosting our Great Pumpkin Give Away. Families are welcome to join us on our green space at 5951 McKee Road in Fitchburg\, to pick out pumpkins\, grab a goodie bag (while supplies last) and enjoy tractor-drawn wagon rides and a bounce house. Kids will have the opportunity to meet local mascots. All cash donations collected during the event will be donated to a local non-profit.
LOCATION:5951 McKee Road Fitchburg
UID:e.1970.2067
SEQUENCE:3
DTSTAMP:20260423T065306Z
URL:https://business.fitchburgchamber.com/events/details/oak-bank-s-great-pumpkin-give-away-2067
END:VEVENT

END:VCALENDAR
