BEGIN:VCALENDAR
VERSION:2.0
PRODID:-//ChamberMaster//Event Calendar 2.0//EN
METHOD:PUBLISH
X-PUBLISHED-TTL:P3D
REFRESH-INTERVAL:P3D
CALSCALE:GREGORIAN
BEGIN:VEVENT
DTSTART:20230927T230000Z
DTEND:20230928T003000Z
X-MICROSOFT-CDO-ALLDAYEVENT:FALSE
SUMMARY:Oak Bank Home Buyer Assistance
DESCRIPTION:Do you dream about owning your own home but are intimidated by the process?\n\nWould you like to learn more about buying a home? \n\nWhat?      Buying a Home Seminar\n\nWhen?     Wednesday\, Sept. 27th\, 2023\, 6:00 pm - 7:30 pm\n\nWhere?    Oak Bank\, 5951 McKee Rd\, Suite 100\, Fitchburg\, WI 53719\n\nWhy?       Learn everything you need to know about buying a home!\n\nBonus!     All attendees can register to win a $100 Home Depot gift card!\n\n         RSVP - No later than Friday\, September 22nd.\n\n\n	The Basics\n\n	\n		Mortgage Terms\n		APR\n		Interest Rates\n	\n	\n	Down Payments\n	\n		Down Payment Assistance (DPAs)\n	\n	\n	Private Mortgage Insurance (PMI)\n	Types of Mortgages\n	\n		Conventional Mortgage\n		Government Backed Loans\n	\n	\n	Oak Bank Resources www.oak.mortgagewebcenter.com \n	\n		Calculators \n		Should I buy a home or continue to rent? or How much would my monthly payment be?\n		Rate Watch\n	\n	\n	The Process\n	\n		Pre-approval\n		The Application\n		Closing\n	\n	\n	Required Documents www.oak.bank/home-loans/home-loan-resources
X-ALT-DESC;FMTTYPE=text/html:<h5 style="box-sizing: border-box\; margin: 0px\; font-family: Montserrat\, sans-serif\; font-weight: 700\; line-height: 1.1\; color: rgb(0\, 104\, 87)\; font-size: 1.5rem\;"><span style="font-size:12px\;">Do you dream about owning your own home but are intimidated by the process?</span></h5>\n\n<h5 style="box-sizing: border-box\; margin: 1rem 0px 0px\; font-family: Montserrat\, sans-serif\; font-weight: 700\; line-height: 1.1\; color: rgb(0\, 104\, 87)\; font-size: 1.5rem\;"><span style="font-size:12px\;">Would you like to learn more about buying a home?&nbsp\;</span></h5>\n\n<h6 style="box-sizing: border-box\; margin: 1rem 0px 0px 40px\; font-family: Montserrat\, sans-serif\; font-weight: 700\; line-height: 1.1\; color: rgb(0\, 104\, 87)\; font-size: 1.25rem\;"><span style="font-size:12px\;">What?&nbsp\; &nbsp\; &nbsp\;&nbsp\;<span style="box-sizing: border-box\; color: rgb(0\, 0\, 0)\;">Buying a Home&nbsp\;</span><span style="box-sizing: border-box\; color: rgb(0\, 0\, 0)\;">Seminar</span><br />\nWhen?&nbsp\; &nbsp\;&nbsp\;<span style="box-sizing: border-box\; color: rgb(0\, 0\, 0)\;">&nbsp\;Wednesday\,&nbsp\;</span><span style="box-sizing: border-box\; color: rgb(0\, 0\, 0)\;">Sept. 27th\, 2023\, 6:00 pm - 7:30 pm</span><br />\nWhere?&nbsp\; &nbsp\;&nbsp\;<span style="box-sizing: border-box\; color: rgb(0\, 0\, 0)\;">Oak Bank\, 5951 McKee Rd\, Suite 100\, Fitchburg\, WI 53719</span><br />\nWhy?&nbsp\; &nbsp\; &nbsp\; &nbsp\;Learn everything you need to know about buying a home!<br />\nBonus!&nbsp\; &nbsp\; &nbsp\;All attendees can register to win a $100 Home Depot gift card!</span></h6>\n\n<p style="box-sizing: border-box\; margin-top: 1rem\; margin-bottom: 1rem\; font-family: Montserrat\, sans-serif\; line-height: 1.65\; color: rgb(52\, 52\, 52)\; font-size: 16px\;"><span style="font-size:12px\;"><span class="underline" style="box-sizing: border-box\;">&nbsp\; &nbsp\; &nbsp\;&nbsp\;<span style="box-sizing: border-box\; color: rgb(165\, 42\, 42)\;"><em style="box-sizing: border-box\;"><span style="box-sizing: border-box\; font-weight: bolder\;">&nbsp\; &nbsp\;RSVP - No later than Friday\, September 22nd.</span></em></span></span></span></p>\n\n<ul style="box-sizing: border-box\; margin: 1.5rem 1.5rem 0px\; list-style-position: outside\; color: rgb(52\, 52\, 52)\; font-family: Montserrat\, sans-serif\;">\n	<li style="font-size: 1rem\; box-sizing: border-box\; line-height: 1.65\;"><span style="font-size:12px\;">The Basics</span>\n\n	<ul style="box-sizing: border-box\; margin: 0px 1.5rem\; list-style-position: outside\;">\n		<li style="box-sizing: border-box\; line-height: 1.65\; font-size: 1rem\;"><span style="font-size:12px\;">Mortgage Terms</span></li>\n		<li style="box-sizing: border-box\; line-height: 1.65\; font-size: 1rem\;"><span style="font-size:12px\;">APR</span></li>\n		<li style="box-sizing: border-box\; line-height: 1.65\; font-size: 1rem\;"><span style="font-size:12px\;">Interest Rates</span></li>\n	</ul>\n	</li>\n	<li style="font-size: 1rem\; box-sizing: border-box\; line-height: 1.65\;"><span style="font-size:12px\;">Down Payments</span>\n	<ul style="box-sizing: border-box\; margin: 0px 1.5rem\; list-style-position: outside\;">\n		<li style="box-sizing: border-box\; line-height: 1.65\; font-size: 1rem\;"><span style="font-size:12px\;">Down Payment Assistance (DPAs)</span></li>\n	</ul>\n	</li>\n	<li style="font-size: 1rem\; box-sizing: border-box\; line-height: 1.65\;"><span style="font-size:12px\;">Private Mortgage Insurance (PMI)</span></li>\n	<li style="font-size: 1rem\; box-sizing: border-box\; line-height: 1.65\;"><span style="font-size:12px\;">Types of Mortgages</span>\n	<ul style="box-sizing: border-box\; margin: 0px 1.5rem\; list-style-position: outside\;">\n		<li style="box-sizing: border-box\; line-height: 1.65\; font-size: 1rem\;"><span style="font-size:12px\;">Conventional Mortgage</span></li>\n		<li style="box-sizing: border-box\; line-height: 1.65\; font-size: 1rem\;"><span style="font-size:12px\;">Government Backed Loans</span></li>\n	</ul>\n	</li>\n	<li style="box-sizing: border-box\; line-height: 1.65\;"><span style="font-size: 12px\;">Oak Bank Resources&nbsp\;<a class="triggerDisclaimer" href="https://www.oak.bank/disclaimer?url=aHR0cHM6Ly9vYWsubW9ydGdhZ2V3ZWJjZW50ZXIuY29tLw%3D%3D" style="box-sizing: border-box\; color: rgb(52\, 52\, 52)\; background-color: rgba(0\, 0\, 0\, 0)\; margin-top: 0px\;" target="_self">www.oak.mortgagewebcenter.com&nbsp\;</a></span>\n	<ul style="">\n		<li style="box-sizing: border-box\; line-height: 1.65\;"><span style="font-size: 12px\;">Calculators&nbsp\;</span></li>\n		<li style="font-size: 1rem\; box-sizing: border-box\; line-height: 1.65\;"><span style="font-size:12px\;">Should I buy a home or continue to rent? or&nbsp\;How much would my monthly payment be?</span></li>\n		<li style="font-size: 1rem\; box-sizing: border-box\; line-height: 1.65\;"><span style="font-size:12px\;">Rate Watch</span></li>\n	</ul>\n	</li>\n	<li style="font-size: 1rem\; box-sizing: border-box\; line-height: 1.65\;"><span style="font-size:12px\;">The Process</span>\n	<ul style="box-sizing: border-box\; margin: 0px 1.5rem\; list-style-position: outside\;">\n		<li style="box-sizing: border-box\; line-height: 1.65\; font-size: 1rem\;"><span style="font-size:12px\;">Pre-approval</span></li>\n		<li style="box-sizing: border-box\; line-height: 1.65\; font-size: 1rem\;"><span style="font-size:12px\;">The Application</span></li>\n		<li style="box-sizing: border-box\; line-height: 1.65\; font-size: 1rem\;"><span style="font-size:12px\;">Closing</span></li>\n	</ul>\n	</li>\n	<li style="font-size: 1rem\; box-sizing: border-box\; line-height: 1.65\;"><span style="font-size:12px\;">Required Documents&nbsp\;<a class="triggerDisclaimer" href="https://www.oak.bank/disclaimer?url=aHR0cHM6Ly93d3cub2FrLmJhbmsvaG9tZS1sb2Fucy9ob21lLWxvYW4tcmVzb3VyY2Vz" style="box-sizing: border-box\; color: rgb(52\, 52\, 52)\; background-color: rgba(0\, 0\, 0\, 0)\; margin-top: 0px\; margin-bottom: 0px\;" target="_self">www.oak.bank/home-loans/home-loan-resources</a></span></li>\n</ul>\n
LOCATION:Oak Bank 5951 McKee Rd Ste 100 Fitchburg\, WI 53719
UID:e.1970.3136
SEQUENCE:3
DTSTAMP:20260423T051210Z
URL:https://business.fitchburgchamber.com/events/details/oak-bank-home-buyer-assistance-3136
END:VEVENT

END:VCALENDAR
